BEGIN:VCALENDAR
VERSION:2.0
PRODID:spatie/icalendar-generator
NAME:Abfallkalender Zuzgen
X-WR-CALNAME:Abfallkalender Zuzgen
BEGIN:VTIMEZONE
TZID:Europe/Zurich
BEGIN:STANDARD
DTSTART:20251026T030000
TZOFFSETFROM:+0200
TZOFFSETTO:+0100
END:STANDARD
BEGIN:DAYLIGHT
DTSTART:20260329T010000
TZOFFSETFROM:+0100
TZOFFSETTO:+0200
END:DAYLIGHT
BEGIN:STANDARD
DTSTART:20261025T030000
TZOFFSETFROM:+0200
TZOFFSETTO:+0100
END:STANDARD
BEGIN:DAYLIGHT
DTSTART:20270328T010000
TZOFFSETFROM:+0100
TZOFFSETTO:+0200
END:DAYLIGHT
END:VTIMEZONE
BEGIN:VTIMEZONE
TZID:UTC
BEGIN:STANDARD
DTSTART:20250728T091317
TZOFFSETFROM:+0000
TZOFFSETTO:+0000
END:STANDARD
END:VTIMEZONE
BEGIN:VEVENT
UID:69eb342d64513
DTSTAMP:20260424T091317Z
SUMMARY:Abholung Häckselmaterial
DESCRIPTION:\nAnmeldung:\nbis 3 Arbeitstage vor dem Häckseldienst\, dire
 kt auf der Homepage: www.kaempferforst.ch\, oder telefonisch an Kämpfer F
 orst GmbH\, Talhof Magden\, Mobile 078 224 49 51.\n Häckseldienst\nEntso
 rgung gebührenpflichtig. Bezahlung mit GAF-Vignetten. Zum Häckseln eigne
 t sich: Schnittgut von Bäumen\, Sträuchern und Hecken\, sowie trockene S
 tauden. Bitte entfernen Sie Wurzelstöcke\, Erdballen\, Steine\, Metalltei
 le oder Plastik. Das Häckselmaterial ist bis spätestens 07.00 Uhr am Str
 assenrand oder auf dem Vorplatz bereit zu stellen.\nPro 1 m3 unbearbeitete
 s Astmaterial:\n\n\nAbfuhr von Häckselmaterial (12 Vignetten) = CHF 21
 .60\nHäckseln ohne Abfuhr enfällt ab dem Jahr 2022.\n\n
URL:https://m.abfall-gaf.ch/index.php?apid=84398903
DTSTART;TZID=Europe/Zurich:20260518T070000
DTEND;TZID=Europe/Zurich:20260518T073000
END:VEVENT
BEGIN:VEVENT
UID:69eb342d645d8
DTSTAMP:20260424T091317Z
SUMMARY:Abholung Häckselmaterial
DESCRIPTION:\nAnmeldung:\nbis 3 Arbeitstage vor dem Häckseldienst\, dire
 kt auf der Homepage: www.kaempferforst.ch\, oder telefonisch an Kämpfer F
 orst GmbH\, Talhof Magden\, Mobile 078 224 49 51.\n Häckseldienst\nEntso
 rgung gebührenpflichtig. Bezahlung mit GAF-Vignetten. Zum Häckseln eigne
 t sich: Schnittgut von Bäumen\, Sträuchern und Hecken\, sowie trockene S
 tauden. Bitte entfernen Sie Wurzelstöcke\, Erdballen\, Steine\, Metalltei
 le oder Plastik. Das Häckselmaterial ist bis spätestens 07.00 Uhr am Str
 assenrand oder auf dem Vorplatz bereit zu stellen.\nPro 1 m3 unbearbeitete
 s Astmaterial:\n\n\nAbfuhr von Häckselmaterial (12 Vignetten) = CHF 21
 .60\nHäckseln ohne Abfuhr enfällt ab dem Jahr 2022.\n\n
URL:https://m.abfall-gaf.ch/index.php?apid=84398903
DTSTART;TZID=Europe/Zurich:20261019T070000
DTEND;TZID=Europe/Zurich:20261019T073000
END:VEVENT
BEGIN:VEVENT
UID:69eb342d645ff
DTSTAMP:20260424T091317Z
SUMMARY:Abholung Häckselmaterial
DESCRIPTION:\nAnmeldung:\nbis 3 Arbeitstage vor dem Häckseldienst\, dire
 kt auf der Homepage: www.kaempferforst.ch\, oder telefonisch an Kämpfer F
 orst GmbH\, Talhof Magden\, Mobile 078 224 49 51.\n Häckseldienst\nEntso
 rgung gebührenpflichtig. Bezahlung mit GAF-Vignetten. Zum Häckseln eigne
 t sich: Schnittgut von Bäumen\, Sträuchern und Hecken\, sowie trockene S
 tauden. Bitte entfernen Sie Wurzelstöcke\, Erdballen\, Steine\, Metalltei
 le oder Plastik. Das Häckselmaterial ist bis spätestens 07.00 Uhr am Str
 assenrand oder auf dem Vorplatz bereit zu stellen.\nPro 1 m3 unbearbeitete
 s Astmaterial:\n\n\nAbfuhr von Häckselmaterial (12 Vignetten) = CHF 21
 .60\nHäckseln ohne Abfuhr enfällt ab dem Jahr 2022.\n\n
URL:https://m.abfall-gaf.ch/index.php?apid=84398903
DTSTART;TZID=Europe/Zurich:20261116T070000
DTEND;TZID=Europe/Zurich:20261116T073000
END:VEVENT
END:VCALENDAR