BEGIN:VCALENDAR
VERSION:2.0
PRODID:spatie/icalendar-generator
NAME:Abfallkalender Arisdorf
X-WR-CALNAME:Abfallkalender Arisdorf
BEGIN:VTIMEZONE
TZID:Europe/Zurich
BEGIN:STANDARD
DTSTART:20251026T030000
TZOFFSETFROM:+0200
TZOFFSETTO:+0100
END:STANDARD
BEGIN:DAYLIGHT
DTSTART:20260329T010000
TZOFFSETFROM:+0100
TZOFFSETTO:+0200
END:DAYLIGHT
BEGIN:STANDARD
DTSTART:20261025T030000
TZOFFSETFROM:+0200
TZOFFSETTO:+0100
END:STANDARD
BEGIN:DAYLIGHT
DTSTART:20270328T010000
TZOFFSETFROM:+0100
TZOFFSETTO:+0200
END:DAYLIGHT
END:VTIMEZONE
BEGIN:VTIMEZONE
TZID:UTC
BEGIN:STANDARD
DTSTART:20250726T092800
TZOFFSETFROM:+0000
TZOFFSETTO:+0000
END:STANDARD
END:VTIMEZONE
BEGIN:VEVENT
UID:69e894a029533
DTSTAMP:20260422T092800Z
SUMMARY:Kartonsammlung
DESCRIPTION: Kartonsammlung (kein Papier)\nGebündelt gut sichtbar am Morge
 n des Abfuhrtages bis 07.00 Uhr bereit stellen.
URL:https://m.abfall-gaf.ch/index.php?apid=690992330
DTSTART;TZID=Europe/Zurich:20260508T070000
DTEND;TZID=Europe/Zurich:20260508T073000
END:VEVENT
BEGIN:VEVENT
UID:69e894a02958e
DTSTAMP:20260422T092800Z
SUMMARY:Kartonsammlung
DESCRIPTION: Kartonsammlung (kein Papier)\nGebündelt gut sichtbar am Morge
 n des Abfuhrtages bis 07.00 Uhr bereit stellen.
URL:https://m.abfall-gaf.ch/index.php?apid=690992330
DTSTART;TZID=Europe/Zurich:20260814T070000
DTEND;TZID=Europe/Zurich:20260814T073000
END:VEVENT
BEGIN:VEVENT
UID:69e894a02959d
DTSTAMP:20260422T092800Z
SUMMARY:Kartonsammlung
DESCRIPTION: Kartonsammlung (kein Papier)\nGebündelt gut sichtbar am Morge
 n des Abfuhrtages bis 07.00 Uhr bereit stellen.
URL:https://m.abfall-gaf.ch/index.php?apid=690992330
DTSTART;TZID=Europe/Zurich:20261204T070000
DTEND;TZID=Europe/Zurich:20261204T073000
END:VEVENT
END:VCALENDAR