BEGIN:VCALENDAR
VERSION:2.0
PRODID:spatie/icalendar-generator
NAME:Abfallkalender Möhlin
X-WR-CALNAME:Abfallkalender Möhlin
BEGIN:VTIMEZONE
TZID:Europe/Zurich
BEGIN:STANDARD
DTSTART:20251026T030000
TZOFFSETFROM:+0200
TZOFFSETTO:+0100
END:STANDARD
BEGIN:DAYLIGHT
DTSTART:20260329T010000
TZOFFSETFROM:+0100
TZOFFSETTO:+0200
END:DAYLIGHT
BEGIN:STANDARD
DTSTART:20261025T030000
TZOFFSETFROM:+0200
TZOFFSETTO:+0100
END:STANDARD
BEGIN:DAYLIGHT
DTSTART:20270328T010000
TZOFFSETFROM:+0100
TZOFFSETTO:+0200
END:DAYLIGHT
END:VTIMEZONE
BEGIN:VTIMEZONE
TZID:UTC
BEGIN:STANDARD
DTSTART:20250726T094526
TZOFFSETFROM:+0000
TZOFFSETTO:+0000
END:STANDARD
END:VTIMEZONE
BEGIN:VEVENT
UID:69e898b66f386
DTSTAMP:20260422T094526Z
SUMMARY:Papiersammlung Süd & Nord
DESCRIPTION: Papiersammlung (kein Karton)\nGebündelt\, nicht in Papiertasc
 hen bereit stellen\, gut sichtbar bis spätestens 07.00 Uhr bereit stellen
 . Gesammelt werden: Zeitungen\, Zeitschriften\, Prospekte\, Büropapier\, 
 Bücher ohne Vorder- und Rückseite. Nicht in die Papiersammlung gehören
 : Papiertaschen (gehören in die Kartonsammlung)\, Karton und Ordner\, bes
 chichtetes Papier\, wie z.B. Butterpapier\, Tetrapackungen\, Fototaschen\,
  Blumenpapier\, Biskuitverpackungen\, Servietten\, Zigarettenpackungen.
URL:https://m.abfall-gaf.ch/index.php?apid=670163980
DTSTART;TZID=Europe/Zurich:20260423T070000
DTEND;TZID=Europe/Zurich:20260423T073000
END:VEVENT
BEGIN:VEVENT
UID:69e898b66f3fc
DTSTAMP:20260422T094526Z
SUMMARY:Papiersammlung Süd & Nord
DESCRIPTION: Papiersammlung (kein Karton)\nGebündelt\, nicht in Papiertasc
 hen bereit stellen\, gut sichtbar bis spätestens 07.00 Uhr bereit stellen
 . Gesammelt werden: Zeitungen\, Zeitschriften\, Prospekte\, Büropapier\, 
 Bücher ohne Vorder- und Rückseite. Nicht in die Papiersammlung gehören
 : Papiertaschen (gehören in die Kartonsammlung)\, Karton und Ordner\, bes
 chichtetes Papier\, wie z.B. Butterpapier\, Tetrapackungen\, Fototaschen\,
  Blumenpapier\, Biskuitverpackungen\, Servietten\, Zigarettenpackungen.
URL:https://m.abfall-gaf.ch/index.php?apid=670163980
DTSTART;TZID=Europe/Zurich:20260528T070000
DTEND;TZID=Europe/Zurich:20260528T073000
END:VEVENT
BEGIN:VEVENT
UID:69e898b66f40b
DTSTAMP:20260422T094526Z
SUMMARY:Papiersammlung Süd & Nord
DESCRIPTION: Papiersammlung (kein Karton)\nGebündelt\, nicht in Papiertasc
 hen bereit stellen\, gut sichtbar bis spätestens 07.00 Uhr bereit stellen
 . Gesammelt werden: Zeitungen\, Zeitschriften\, Prospekte\, Büropapier\, 
 Bücher ohne Vorder- und Rückseite. Nicht in die Papiersammlung gehören
 : Papiertaschen (gehören in die Kartonsammlung)\, Karton und Ordner\, bes
 chichtetes Papier\, wie z.B. Butterpapier\, Tetrapackungen\, Fototaschen\,
  Blumenpapier\, Biskuitverpackungen\, Servietten\, Zigarettenpackungen.
URL:https://m.abfall-gaf.ch/index.php?apid=670163980
DTSTART;TZID=Europe/Zurich:20260903T070000
DTEND;TZID=Europe/Zurich:20260903T073000
END:VEVENT
BEGIN:VEVENT
UID:69e898b66f418
DTSTAMP:20260422T094526Z
SUMMARY:Papiersammlung Süd & Nord
DESCRIPTION: Papiersammlung (kein Karton)\nGebündelt\, nicht in Papiertasc
 hen bereit stellen\, gut sichtbar bis spätestens 07.00 Uhr bereit stellen
 . Gesammelt werden: Zeitungen\, Zeitschriften\, Prospekte\, Büropapier\, 
 Bücher ohne Vorder- und Rückseite. Nicht in die Papiersammlung gehören
 : Papiertaschen (gehören in die Kartonsammlung)\, Karton und Ordner\, bes
 chichtetes Papier\, wie z.B. Butterpapier\, Tetrapackungen\, Fototaschen\,
  Blumenpapier\, Biskuitverpackungen\, Servietten\, Zigarettenpackungen.
URL:https://m.abfall-gaf.ch/index.php?apid=670163980
DTSTART;TZID=Europe/Zurich:20261015T070000
DTEND;TZID=Europe/Zurich:20261015T073000
END:VEVENT
BEGIN:VEVENT
UID:69e898b66f422
DTSTAMP:20260422T094526Z
SUMMARY:Papiersammlung Süd & Nord
DESCRIPTION: Papiersammlung (kein Karton)\nGebündelt\, nicht in Papiertasc
 hen bereit stellen\, gut sichtbar bis spätestens 07.00 Uhr bereit stellen
 . Gesammelt werden: Zeitungen\, Zeitschriften\, Prospekte\, Büropapier\, 
 Bücher ohne Vorder- und Rückseite. Nicht in die Papiersammlung gehören
 : Papiertaschen (gehören in die Kartonsammlung)\, Karton und Ordner\, bes
 chichtetes Papier\, wie z.B. Butterpapier\, Tetrapackungen\, Fototaschen\,
  Blumenpapier\, Biskuitverpackungen\, Servietten\, Zigarettenpackungen.
URL:https://m.abfall-gaf.ch/index.php?apid=670163980
DTSTART;TZID=Europe/Zurich:20261126T070000
DTEND;TZID=Europe/Zurich:20261126T073000
END:VEVENT
END:VCALENDAR