BEGIN:VCALENDAR
VERSION:2.0
PRODID:spatie/icalendar-generator
NAME:Abfallkalender Zuzgen
X-WR-CALNAME:Abfallkalender Zuzgen
BEGIN:VTIMEZONE
TZID:Europe/Zurich
BEGIN:STANDARD
DTSTART:20251026T030000
TZOFFSETFROM:+0200
TZOFFSETTO:+0100
END:STANDARD
BEGIN:DAYLIGHT
DTSTART:20260329T010000
TZOFFSETFROM:+0100
TZOFFSETTO:+0200
END:DAYLIGHT
BEGIN:STANDARD
DTSTART:20261025T030000
TZOFFSETFROM:+0200
TZOFFSETTO:+0100
END:STANDARD
BEGIN:DAYLIGHT
DTSTART:20270328T010000
TZOFFSETFROM:+0100
TZOFFSETTO:+0200
END:DAYLIGHT
END:VTIMEZONE
BEGIN:VTIMEZONE
TZID:UTC
BEGIN:STANDARD
DTSTART:20250724T092313
TZOFFSETFROM:+0000
TZOFFSETTO:+0000
END:STANDARD
END:VTIMEZONE
BEGIN:VEVENT
UID:69e5f081228aa
DTSTAMP:20260420T092313Z
SUMMARY:Kehrichtsammlung
DESCRIPTION: Bereitstellung Hauskehricht\, Sperrgut und Container\nFrühest
 ens und bis spätestens 07.00 Uhr des Abfuhrtages bereitstellen. \nAn all
 gemeinen Feiertagen findet keine Abfall-Entsorgungs-Tour statt. Die Ersatz
 touren werden zusätzlich im fricktal.info publiziert.
URL:https://m.abfall-gaf.ch/index.php?apid=445424409
DTSTART;TZID=Europe/Zurich:20260424T070000
DTEND;TZID=Europe/Zurich:20260424T073000
END:VEVENT
BEGIN:VEVENT
UID:69e5f081228ff
DTSTAMP:20260420T092313Z
SUMMARY:Kehrichtsammlung
DESCRIPTION: Bereitstellung Hauskehricht\, Sperrgut und Container\nFrühest
 ens und bis spätestens 07.00 Uhr des Abfuhrtages bereitstellen. \nAn all
 gemeinen Feiertagen findet keine Abfall-Entsorgungs-Tour statt. Die Ersatz
 touren werden zusätzlich im fricktal.info publiziert.
URL:https://m.abfall-gaf.ch/index.php?apid=445424409
DTSTART;TZID=Europe/Zurich:20260501T070000
DTEND;TZID=Europe/Zurich:20260501T073000
END:VEVENT
BEGIN:VEVENT
UID:69e5f0812290d
DTSTAMP:20260420T092313Z
SUMMARY:Kehrichtsammlung
DESCRIPTION: Bereitstellung Hauskehricht\, Sperrgut und Container\nFrühest
 ens und bis spätestens 07.00 Uhr des Abfuhrtages bereitstellen. \nAn all
 gemeinen Feiertagen findet keine Abfall-Entsorgungs-Tour statt. Die Ersatz
 touren werden zusätzlich im fricktal.info publiziert.
URL:https://m.abfall-gaf.ch/index.php?apid=445424409
DTSTART;TZID=Europe/Zurich:20260508T070000
DTEND;TZID=Europe/Zurich:20260508T073000
END:VEVENT
BEGIN:VEVENT
UID:69e5f08122918
DTSTAMP:20260420T092313Z
SUMMARY:Kehrichtsammlung
DESCRIPTION: Bereitstellung Hauskehricht\, Sperrgut und Container\nFrühest
 ens und bis spätestens 07.00 Uhr des Abfuhrtages bereitstellen. \nAn all
 gemeinen Feiertagen findet keine Abfall-Entsorgungs-Tour statt. Die Ersatz
 touren werden zusätzlich im fricktal.info publiziert.
URL:https://m.abfall-gaf.ch/index.php?apid=445424409
DTSTART;TZID=Europe/Zurich:20260515T070000
DTEND;TZID=Europe/Zurich:20260515T073000
END:VEVENT
BEGIN:VEVENT
UID:69e5f08122923
DTSTAMP:20260420T092313Z
SUMMARY:Kehrichtsammlung
DESCRIPTION: Bereitstellung Hauskehricht\, Sperrgut und Container\nFrühest
 ens und bis spätestens 07.00 Uhr des Abfuhrtages bereitstellen. \nAn all
 gemeinen Feiertagen findet keine Abfall-Entsorgungs-Tour statt. Die Ersatz
 touren werden zusätzlich im fricktal.info publiziert.
URL:https://m.abfall-gaf.ch/index.php?apid=445424409
DTSTART;TZID=Europe/Zurich:20260522T070000
DTEND;TZID=Europe/Zurich:20260522T073000
END:VEVENT
BEGIN:VEVENT
UID:69e5f0812292d
DTSTAMP:20260420T092313Z
SUMMARY:Kehrichtsammlung
DESCRIPTION: Bereitstellung Hauskehricht\, Sperrgut und Container\nFrühest
 ens und bis spätestens 07.00 Uhr des Abfuhrtages bereitstellen. \nAn all
 gemeinen Feiertagen findet keine Abfall-Entsorgungs-Tour statt. Die Ersatz
 touren werden zusätzlich im fricktal.info publiziert.
URL:https://m.abfall-gaf.ch/index.php?apid=445424409
DTSTART;TZID=Europe/Zurich:20260529T070000
DTEND;TZID=Europe/Zurich:20260529T073000
END:VEVENT
BEGIN:VEVENT
UID:69e5f08122937
DTSTAMP:20260420T092313Z
SUMMARY:Kehrichtsammlung
DESCRIPTION: Bereitstellung Hauskehricht\, Sperrgut und Container\nFrühest
 ens und bis spätestens 07.00 Uhr des Abfuhrtages bereitstellen. \nAn all
 gemeinen Feiertagen findet keine Abfall-Entsorgungs-Tour statt. Die Ersatz
 touren werden zusätzlich im fricktal.info publiziert.
URL:https://m.abfall-gaf.ch/index.php?apid=445424409
DTSTART;TZID=Europe/Zurich:20260605T070000
DTEND;TZID=Europe/Zurich:20260605T073000
END:VEVENT
BEGIN:VEVENT
UID:69e5f08122956
DTSTAMP:20260420T092313Z
SUMMARY:Kehrichtsammlung
DESCRIPTION: Bereitstellung Hauskehricht\, Sperrgut und Container\nFrühest
 ens und bis spätestens 07.00 Uhr des Abfuhrtages bereitstellen. \nAn all
 gemeinen Feiertagen findet keine Abfall-Entsorgungs-Tour statt. Die Ersatz
 touren werden zusätzlich im fricktal.info publiziert.
URL:https://m.abfall-gaf.ch/index.php?apid=445424409
DTSTART;TZID=Europe/Zurich:20260612T070000
DTEND;TZID=Europe/Zurich:20260612T073000
END:VEVENT
BEGIN:VEVENT
UID:69e5f08122962
DTSTAMP:20260420T092313Z
SUMMARY:Kehrichtsammlung
DESCRIPTION: Bereitstellung Hauskehricht\, Sperrgut und Container\nFrühest
 ens und bis spätestens 07.00 Uhr des Abfuhrtages bereitstellen. \nAn all
 gemeinen Feiertagen findet keine Abfall-Entsorgungs-Tour statt. Die Ersatz
 touren werden zusätzlich im fricktal.info publiziert.
URL:https://m.abfall-gaf.ch/index.php?apid=445424409
DTSTART;TZID=Europe/Zurich:20260619T070000
DTEND;TZID=Europe/Zurich:20260619T073000
END:VEVENT
BEGIN:VEVENT
UID:69e5f0812296c
DTSTAMP:20260420T092313Z
SUMMARY:Kehrichtsammlung
DESCRIPTION: Bereitstellung Hauskehricht\, Sperrgut und Container\nFrühest
 ens und bis spätestens 07.00 Uhr des Abfuhrtages bereitstellen. \nAn all
 gemeinen Feiertagen findet keine Abfall-Entsorgungs-Tour statt. Die Ersatz
 touren werden zusätzlich im fricktal.info publiziert.
URL:https://m.abfall-gaf.ch/index.php?apid=445424409
DTSTART;TZID=Europe/Zurich:20260626T070000
DTEND;TZID=Europe/Zurich:20260626T073000
END:VEVENT
BEGIN:VEVENT
UID:69e5f08122976
DTSTAMP:20260420T092313Z
SUMMARY:Kehrichtsammlung
DESCRIPTION: Bereitstellung Hauskehricht\, Sperrgut und Container\nFrühest
 ens und bis spätestens 07.00 Uhr des Abfuhrtages bereitstellen. \nAn all
 gemeinen Feiertagen findet keine Abfall-Entsorgungs-Tour statt. Die Ersatz
 touren werden zusätzlich im fricktal.info publiziert.
URL:https://m.abfall-gaf.ch/index.php?apid=445424409
DTSTART;TZID=Europe/Zurich:20260703T070000
DTEND;TZID=Europe/Zurich:20260703T073000
END:VEVENT
BEGIN:VEVENT
UID:69e5f08122981
DTSTAMP:20260420T092313Z
SUMMARY:Kehrichtsammlung
DESCRIPTION: Bereitstellung Hauskehricht\, Sperrgut und Container\nFrühest
 ens und bis spätestens 07.00 Uhr des Abfuhrtages bereitstellen. \nAn all
 gemeinen Feiertagen findet keine Abfall-Entsorgungs-Tour statt. Die Ersatz
 touren werden zusätzlich im fricktal.info publiziert.
URL:https://m.abfall-gaf.ch/index.php?apid=445424409
DTSTART;TZID=Europe/Zurich:20260710T070000
DTEND;TZID=Europe/Zurich:20260710T073000
END:VEVENT
BEGIN:VEVENT
UID:69e5f0812298a
DTSTAMP:20260420T092313Z
SUMMARY:Kehrichtsammlung
DESCRIPTION: Bereitstellung Hauskehricht\, Sperrgut und Container\nFrühest
 ens und bis spätestens 07.00 Uhr des Abfuhrtages bereitstellen. \nAn all
 gemeinen Feiertagen findet keine Abfall-Entsorgungs-Tour statt. Die Ersatz
 touren werden zusätzlich im fricktal.info publiziert.
URL:https://m.abfall-gaf.ch/index.php?apid=445424409
DTSTART;TZID=Europe/Zurich:20260717T070000
DTEND;TZID=Europe/Zurich:20260717T073000
END:VEVENT
BEGIN:VEVENT
UID:69e5f08122994
DTSTAMP:20260420T092313Z
SUMMARY:Kehrichtsammlung
DESCRIPTION: Bereitstellung Hauskehricht\, Sperrgut und Container\nFrühest
 ens und bis spätestens 07.00 Uhr des Abfuhrtages bereitstellen. \nAn all
 gemeinen Feiertagen findet keine Abfall-Entsorgungs-Tour statt. Die Ersatz
 touren werden zusätzlich im fricktal.info publiziert.
URL:https://m.abfall-gaf.ch/index.php?apid=445424409
DTSTART;TZID=Europe/Zurich:20260724T070000
DTEND;TZID=Europe/Zurich:20260724T073000
END:VEVENT
BEGIN:VEVENT
UID:69e5f0812299d
DTSTAMP:20260420T092313Z
SUMMARY:Kehrichtsammlung
DESCRIPTION: Bereitstellung Hauskehricht\, Sperrgut und Container\nFrühest
 ens und bis spätestens 07.00 Uhr des Abfuhrtages bereitstellen. \nAn all
 gemeinen Feiertagen findet keine Abfall-Entsorgungs-Tour statt. Die Ersatz
 touren werden zusätzlich im fricktal.info publiziert.
URL:https://m.abfall-gaf.ch/index.php?apid=445424409
DTSTART;TZID=Europe/Zurich:20260731T070000
DTEND;TZID=Europe/Zurich:20260731T073000
END:VEVENT
BEGIN:VEVENT
UID:69e5f081229a7
DTSTAMP:20260420T092313Z
SUMMARY:Kehrichtsammlung
DESCRIPTION: Bereitstellung Hauskehricht\, Sperrgut und Container\nFrühest
 ens und bis spätestens 07.00 Uhr des Abfuhrtages bereitstellen. \nAn all
 gemeinen Feiertagen findet keine Abfall-Entsorgungs-Tour statt. Die Ersatz
 touren werden zusätzlich im fricktal.info publiziert.
URL:https://m.abfall-gaf.ch/index.php?apid=445424409
DTSTART;TZID=Europe/Zurich:20260807T070000
DTEND;TZID=Europe/Zurich:20260807T073000
END:VEVENT
BEGIN:VEVENT
UID:69e5f081229b0
DTSTAMP:20260420T092313Z
SUMMARY:Kehrichtsammlung
DESCRIPTION: Bereitstellung Hauskehricht\, Sperrgut und Container\nFrühest
 ens und bis spätestens 07.00 Uhr des Abfuhrtages bereitstellen. \nAn all
 gemeinen Feiertagen findet keine Abfall-Entsorgungs-Tour statt. Die Ersatz
 touren werden zusätzlich im fricktal.info publiziert.
URL:https://m.abfall-gaf.ch/index.php?apid=445424409
DTSTART;TZID=Europe/Zurich:20260814T070000
DTEND;TZID=Europe/Zurich:20260814T073000
END:VEVENT
BEGIN:VEVENT
UID:69e5f081229ba
DTSTAMP:20260420T092313Z
SUMMARY:Kehrichtsammlung
DESCRIPTION: Bereitstellung Hauskehricht\, Sperrgut und Container\nFrühest
 ens und bis spätestens 07.00 Uhr des Abfuhrtages bereitstellen. \nAn all
 gemeinen Feiertagen findet keine Abfall-Entsorgungs-Tour statt. Die Ersatz
 touren werden zusätzlich im fricktal.info publiziert.
URL:https://m.abfall-gaf.ch/index.php?apid=445424409
DTSTART;TZID=Europe/Zurich:20260821T070000
DTEND;TZID=Europe/Zurich:20260821T073000
END:VEVENT
BEGIN:VEVENT
UID:69e5f081229c2
DTSTAMP:20260420T092313Z
SUMMARY:Kehrichtsammlung
DESCRIPTION: Bereitstellung Hauskehricht\, Sperrgut und Container\nFrühest
 ens und bis spätestens 07.00 Uhr des Abfuhrtages bereitstellen. \nAn all
 gemeinen Feiertagen findet keine Abfall-Entsorgungs-Tour statt. Die Ersatz
 touren werden zusätzlich im fricktal.info publiziert.
URL:https://m.abfall-gaf.ch/index.php?apid=445424409
DTSTART;TZID=Europe/Zurich:20260828T070000
DTEND;TZID=Europe/Zurich:20260828T073000
END:VEVENT
BEGIN:VEVENT
UID:69e5f081229cc
DTSTAMP:20260420T092313Z
SUMMARY:Kehrichtsammlung
DESCRIPTION: Bereitstellung Hauskehricht\, Sperrgut und Container\nFrühest
 ens und bis spätestens 07.00 Uhr des Abfuhrtages bereitstellen. \nAn all
 gemeinen Feiertagen findet keine Abfall-Entsorgungs-Tour statt. Die Ersatz
 touren werden zusätzlich im fricktal.info publiziert.
URL:https://m.abfall-gaf.ch/index.php?apid=445424409
DTSTART;TZID=Europe/Zurich:20260904T070000
DTEND;TZID=Europe/Zurich:20260904T073000
END:VEVENT
BEGIN:VEVENT
UID:69e5f081229d5
DTSTAMP:20260420T092313Z
SUMMARY:Kehrichtsammlung
DESCRIPTION: Bereitstellung Hauskehricht\, Sperrgut und Container\nFrühest
 ens und bis spätestens 07.00 Uhr des Abfuhrtages bereitstellen. \nAn all
 gemeinen Feiertagen findet keine Abfall-Entsorgungs-Tour statt. Die Ersatz
 touren werden zusätzlich im fricktal.info publiziert.
URL:https://m.abfall-gaf.ch/index.php?apid=445424409
DTSTART;TZID=Europe/Zurich:20260911T070000
DTEND;TZID=Europe/Zurich:20260911T073000
END:VEVENT
BEGIN:VEVENT
UID:69e5f081229df
DTSTAMP:20260420T092313Z
SUMMARY:Kehrichtsammlung
DESCRIPTION: Bereitstellung Hauskehricht\, Sperrgut und Container\nFrühest
 ens und bis spätestens 07.00 Uhr des Abfuhrtages bereitstellen. \nAn all
 gemeinen Feiertagen findet keine Abfall-Entsorgungs-Tour statt. Die Ersatz
 touren werden zusätzlich im fricktal.info publiziert.
URL:https://m.abfall-gaf.ch/index.php?apid=445424409
DTSTART;TZID=Europe/Zurich:20260918T070000
DTEND;TZID=Europe/Zurich:20260918T073000
END:VEVENT
BEGIN:VEVENT
UID:69e5f081229e8
DTSTAMP:20260420T092313Z
SUMMARY:Kehrichtsammlung
DESCRIPTION: Bereitstellung Hauskehricht\, Sperrgut und Container\nFrühest
 ens und bis spätestens 07.00 Uhr des Abfuhrtages bereitstellen. \nAn all
 gemeinen Feiertagen findet keine Abfall-Entsorgungs-Tour statt. Die Ersatz
 touren werden zusätzlich im fricktal.info publiziert.
URL:https://m.abfall-gaf.ch/index.php?apid=445424409
DTSTART;TZID=Europe/Zurich:20260925T070000
DTEND;TZID=Europe/Zurich:20260925T073000
END:VEVENT
BEGIN:VEVENT
UID:69e5f081229f2
DTSTAMP:20260420T092313Z
SUMMARY:Kehrichtsammlung
DESCRIPTION: Bereitstellung Hauskehricht\, Sperrgut und Container\nFrühest
 ens und bis spätestens 07.00 Uhr des Abfuhrtages bereitstellen. \nAn all
 gemeinen Feiertagen findet keine Abfall-Entsorgungs-Tour statt. Die Ersatz
 touren werden zusätzlich im fricktal.info publiziert.
URL:https://m.abfall-gaf.ch/index.php?apid=445424409
DTSTART;TZID=Europe/Zurich:20261002T070000
DTEND;TZID=Europe/Zurich:20261002T073000
END:VEVENT
BEGIN:VEVENT
UID:69e5f081229fc
DTSTAMP:20260420T092313Z
SUMMARY:Kehrichtsammlung
DESCRIPTION: Bereitstellung Hauskehricht\, Sperrgut und Container\nFrühest
 ens und bis spätestens 07.00 Uhr des Abfuhrtages bereitstellen. \nAn all
 gemeinen Feiertagen findet keine Abfall-Entsorgungs-Tour statt. Die Ersatz
 touren werden zusätzlich im fricktal.info publiziert.
URL:https://m.abfall-gaf.ch/index.php?apid=445424409
DTSTART;TZID=Europe/Zurich:20261009T070000
DTEND;TZID=Europe/Zurich:20261009T073000
END:VEVENT
BEGIN:VEVENT
UID:69e5f08122a05
DTSTAMP:20260420T092313Z
SUMMARY:Kehrichtsammlung
DESCRIPTION: Bereitstellung Hauskehricht\, Sperrgut und Container\nFrühest
 ens und bis spätestens 07.00 Uhr des Abfuhrtages bereitstellen. \nAn all
 gemeinen Feiertagen findet keine Abfall-Entsorgungs-Tour statt. Die Ersatz
 touren werden zusätzlich im fricktal.info publiziert.
URL:https://m.abfall-gaf.ch/index.php?apid=445424409
DTSTART;TZID=Europe/Zurich:20261016T070000
DTEND;TZID=Europe/Zurich:20261016T073000
END:VEVENT
BEGIN:VEVENT
UID:69e5f08122a0e
DTSTAMP:20260420T092313Z
SUMMARY:Kehrichtsammlung
DESCRIPTION: Bereitstellung Hauskehricht\, Sperrgut und Container\nFrühest
 ens und bis spätestens 07.00 Uhr des Abfuhrtages bereitstellen. \nAn all
 gemeinen Feiertagen findet keine Abfall-Entsorgungs-Tour statt. Die Ersatz
 touren werden zusätzlich im fricktal.info publiziert.
URL:https://m.abfall-gaf.ch/index.php?apid=445424409
DTSTART;TZID=Europe/Zurich:20261023T070000
DTEND;TZID=Europe/Zurich:20261023T073000
END:VEVENT
BEGIN:VEVENT
UID:69e5f08122a18
DTSTAMP:20260420T092313Z
SUMMARY:Kehrichtsammlung
DESCRIPTION: Bereitstellung Hauskehricht\, Sperrgut und Container\nFrühest
 ens und bis spätestens 07.00 Uhr des Abfuhrtages bereitstellen. \nAn all
 gemeinen Feiertagen findet keine Abfall-Entsorgungs-Tour statt. Die Ersatz
 touren werden zusätzlich im fricktal.info publiziert.
URL:https://m.abfall-gaf.ch/index.php?apid=445424409
DTSTART;TZID=Europe/Zurich:20261030T070000
DTEND;TZID=Europe/Zurich:20261030T073000
END:VEVENT
BEGIN:VEVENT
UID:69e5f08122a21
DTSTAMP:20260420T092313Z
SUMMARY:Kehrichtsammlung
DESCRIPTION: Bereitstellung Hauskehricht\, Sperrgut und Container\nFrühest
 ens und bis spätestens 07.00 Uhr des Abfuhrtages bereitstellen. \nAn all
 gemeinen Feiertagen findet keine Abfall-Entsorgungs-Tour statt. Die Ersatz
 touren werden zusätzlich im fricktal.info publiziert.
URL:https://m.abfall-gaf.ch/index.php?apid=445424409
DTSTART;TZID=Europe/Zurich:20261106T070000
DTEND;TZID=Europe/Zurich:20261106T073000
END:VEVENT
BEGIN:VEVENT
UID:69e5f08122a2a
DTSTAMP:20260420T092313Z
SUMMARY:Kehrichtsammlung
DESCRIPTION: Bereitstellung Hauskehricht\, Sperrgut und Container\nFrühest
 ens und bis spätestens 07.00 Uhr des Abfuhrtages bereitstellen. \nAn all
 gemeinen Feiertagen findet keine Abfall-Entsorgungs-Tour statt. Die Ersatz
 touren werden zusätzlich im fricktal.info publiziert.
URL:https://m.abfall-gaf.ch/index.php?apid=445424409
DTSTART;TZID=Europe/Zurich:20261113T070000
DTEND;TZID=Europe/Zurich:20261113T073000
END:VEVENT
BEGIN:VEVENT
UID:69e5f08122a34
DTSTAMP:20260420T092313Z
SUMMARY:Kehrichtsammlung
DESCRIPTION: Bereitstellung Hauskehricht\, Sperrgut und Container\nFrühest
 ens und bis spätestens 07.00 Uhr des Abfuhrtages bereitstellen. \nAn all
 gemeinen Feiertagen findet keine Abfall-Entsorgungs-Tour statt. Die Ersatz
 touren werden zusätzlich im fricktal.info publiziert.
URL:https://m.abfall-gaf.ch/index.php?apid=445424409
DTSTART;TZID=Europe/Zurich:20261120T070000
DTEND;TZID=Europe/Zurich:20261120T073000
END:VEVENT
BEGIN:VEVENT
UID:69e5f08122a4c
DTSTAMP:20260420T092313Z
SUMMARY:Kehrichtsammlung
DESCRIPTION: Bereitstellung Hauskehricht\, Sperrgut und Container\nFrühest
 ens und bis spätestens 07.00 Uhr des Abfuhrtages bereitstellen. \nAn all
 gemeinen Feiertagen findet keine Abfall-Entsorgungs-Tour statt. Die Ersatz
 touren werden zusätzlich im fricktal.info publiziert.
URL:https://m.abfall-gaf.ch/index.php?apid=445424409
DTSTART;TZID=Europe/Zurich:20261127T070000
DTEND;TZID=Europe/Zurich:20261127T073000
END:VEVENT
BEGIN:VEVENT
UID:69e5f08122a57
DTSTAMP:20260420T092313Z
SUMMARY:Kehrichtsammlung
DESCRIPTION: Bereitstellung Hauskehricht\, Sperrgut und Container\nFrühest
 ens und bis spätestens 07.00 Uhr des Abfuhrtages bereitstellen. \nAn all
 gemeinen Feiertagen findet keine Abfall-Entsorgungs-Tour statt. Die Ersatz
 touren werden zusätzlich im fricktal.info publiziert.
URL:https://m.abfall-gaf.ch/index.php?apid=445424409
DTSTART;TZID=Europe/Zurich:20261204T070000
DTEND;TZID=Europe/Zurich:20261204T073000
END:VEVENT
BEGIN:VEVENT
UID:69e5f08122a61
DTSTAMP:20260420T092313Z
SUMMARY:Kehrichtsammlung
DESCRIPTION: Bereitstellung Hauskehricht\, Sperrgut und Container\nFrühest
 ens und bis spätestens 07.00 Uhr des Abfuhrtages bereitstellen. \nAn all
 gemeinen Feiertagen findet keine Abfall-Entsorgungs-Tour statt. Die Ersatz
 touren werden zusätzlich im fricktal.info publiziert.
URL:https://m.abfall-gaf.ch/index.php?apid=445424409
DTSTART;TZID=Europe/Zurich:20261211T070000
DTEND;TZID=Europe/Zurich:20261211T073000
END:VEVENT
BEGIN:VEVENT
UID:69e5f08122a6b
DTSTAMP:20260420T092313Z
SUMMARY:Kehrichtsammlung
DESCRIPTION: Bereitstellung Hauskehricht\, Sperrgut und Container\nFrühest
 ens und bis spätestens 07.00 Uhr des Abfuhrtages bereitstellen. \nAn all
 gemeinen Feiertagen findet keine Abfall-Entsorgungs-Tour statt. Die Ersatz
 touren werden zusätzlich im fricktal.info publiziert.
URL:https://m.abfall-gaf.ch/index.php?apid=445424409
DTSTART;TZID=Europe/Zurich:20261218T070000
DTEND;TZID=Europe/Zurich:20261218T073000
END:VEVENT
BEGIN:VEVENT
UID:69e5f08122a75
DTSTAMP:20260420T092313Z
SUMMARY:Kehrichtsammlung
DESCRIPTION: Bereitstellung Hauskehricht\, Sperrgut und Container\nFrühest
 ens und bis spätestens 07.00 Uhr des Abfuhrtages bereitstellen. \nAn all
 gemeinen Feiertagen findet keine Abfall-Entsorgungs-Tour statt. Die Ersatz
 touren werden zusätzlich im fricktal.info publiziert.
URL:https://m.abfall-gaf.ch/index.php?apid=445424409
DTSTART;TZID=Europe/Zurich:20261224T070000
DTEND;TZID=Europe/Zurich:20261224T073000
END:VEVENT
BEGIN:VEVENT
UID:69e5f08122a81
DTSTAMP:20260420T092313Z
SUMMARY:Kehrichtsammlung
DESCRIPTION: Bereitstellung Hauskehricht\, Sperrgut und Container\nFrühest
 ens und bis spätestens 07.00 Uhr des Abfuhrtages bereitstellen. \nAn all
 gemeinen Feiertagen findet keine Abfall-Entsorgungs-Tour statt. Die Ersatz
 touren werden zusätzlich im fricktal.info publiziert.
URL:https://m.abfall-gaf.ch/index.php?apid=445424409
DTSTART;TZID=Europe/Zurich:20261225T000000
DTEND;TZID=Europe/Zurich:20261225T003000
END:VEVENT
BEGIN:VEVENT
UID:69e5f08122a8b
DTSTAMP:20260420T092313Z
SUMMARY:Kehrichtsammlung
DESCRIPTION: Bereitstellung Hauskehricht\, Sperrgut und Container\nFrühest
 ens und bis spätestens 07.00 Uhr des Abfuhrtages bereitstellen. \nAn all
 gemeinen Feiertagen findet keine Abfall-Entsorgungs-Tour statt. Die Ersatz
 touren werden zusätzlich im fricktal.info publiziert.
URL:https://m.abfall-gaf.ch/index.php?apid=445424409
DTSTART;TZID=Europe/Zurich:20270101T000000
DTEND;TZID=Europe/Zurich:20270101T003000
END:VEVENT
BEGIN:VEVENT
UID:69e5f08122a95
DTSTAMP:20260420T092313Z
SUMMARY:Kehrichtsammlung
DESCRIPTION: Bereitstellung Hauskehricht\, Sperrgut und Container\nFrühest
 ens und bis spätestens 07.00 Uhr des Abfuhrtages bereitstellen. \nAn all
 gemeinen Feiertagen findet keine Abfall-Entsorgungs-Tour statt. Die Ersatz
 touren werden zusätzlich im fricktal.info publiziert.
URL:https://m.abfall-gaf.ch/index.php?apid=445424409
DTSTART;TZID=Europe/Zurich:20270104T070000
DTEND;TZID=Europe/Zurich:20270104T073000
END:VEVENT
END:VCALENDAR