BEGIN:VCALENDAR
VERSION:2.0
PRODID:spatie/icalendar-generator
NAME:Abfallkalender Hersberg
X-WR-CALNAME:Abfallkalender Hersberg
BEGIN:VTIMEZONE
TZID:Europe/Zurich
BEGIN:STANDARD
DTSTART:20251026T030000
TZOFFSETFROM:+0200
TZOFFSETTO:+0100
END:STANDARD
BEGIN:DAYLIGHT
DTSTART:20260329T010000
TZOFFSETFROM:+0100
TZOFFSETTO:+0200
END:DAYLIGHT
BEGIN:STANDARD
DTSTART:20261025T030000
TZOFFSETFROM:+0200
TZOFFSETTO:+0100
END:STANDARD
BEGIN:DAYLIGHT
DTSTART:20270328T010000
TZOFFSETFROM:+0100
TZOFFSETTO:+0200
END:DAYLIGHT
END:VTIMEZONE
BEGIN:VTIMEZONE
TZID:UTC
BEGIN:STANDARD
DTSTART:20250724T094932
TZOFFSETFROM:+0000
TZOFFSETTO:+0000
END:STANDARD
END:VTIMEZONE
BEGIN:VEVENT
UID:69e5f6ac6631f
DTSTAMP:20260420T094932Z
SUMMARY:Papiersammlung
DESCRIPTION: Papiersammlung (kein Karton)\nGebündelt\, nicht in Papiertasc
 hen bereit stellen\, gut sichtbar bis spätestens 07.00 Uhr bereit stellen
 . Gesammelt werden: Zeitungen\, Zeitschriften\, Prospekte\, Büropapier\, 
 Bücher ohne Vorder- und Rückseite. Nicht in die Papiersammlung gehören:
  Papiertaschen (gehören in die Kartonsammlung)\, Karton und Ordner\, besc
 hichtetes Papier\, wie z.B. Butterpapier\, Tetrapackungen\, Fototaschen\, 
 Blumenpapier\, Biskuitverpackungen\, Servietten\, Zigarettenpackungen.
URL:https://m.abfall-gaf.ch/index.php?apid=394139591
DTSTART;TZID=Europe/Zurich:20260506T070000
DTEND;TZID=Europe/Zurich:20260506T073000
END:VEVENT
BEGIN:VEVENT
UID:69e5f6ac663d0
DTSTAMP:20260420T094932Z
SUMMARY:Papiersammlung
DESCRIPTION: Papiersammlung (kein Karton)\nGebündelt\, nicht in Papiertasc
 hen bereit stellen\, gut sichtbar bis spätestens 07.00 Uhr bereit stellen
 . Gesammelt werden: Zeitungen\, Zeitschriften\, Prospekte\, Büropapier\, 
 Bücher ohne Vorder- und Rückseite. Nicht in die Papiersammlung gehören:
  Papiertaschen (gehören in die Kartonsammlung)\, Karton und Ordner\, besc
 hichtetes Papier\, wie z.B. Butterpapier\, Tetrapackungen\, Fototaschen\, 
 Blumenpapier\, Biskuitverpackungen\, Servietten\, Zigarettenpackungen.
URL:https://m.abfall-gaf.ch/index.php?apid=394139591
DTSTART;TZID=Europe/Zurich:20260812T070000
DTEND;TZID=Europe/Zurich:20260812T073000
END:VEVENT
BEGIN:VEVENT
UID:69e5f6ac663f4
DTSTAMP:20260420T094932Z
SUMMARY:Papiersammlung
DESCRIPTION: Papiersammlung (kein Karton)\nGebündelt\, nicht in Papiertasc
 hen bereit stellen\, gut sichtbar bis spätestens 07.00 Uhr bereit stellen
 . Gesammelt werden: Zeitungen\, Zeitschriften\, Prospekte\, Büropapier\, 
 Bücher ohne Vorder- und Rückseite. Nicht in die Papiersammlung gehören:
  Papiertaschen (gehören in die Kartonsammlung)\, Karton und Ordner\, besc
 hichtetes Papier\, wie z.B. Butterpapier\, Tetrapackungen\, Fototaschen\, 
 Blumenpapier\, Biskuitverpackungen\, Servietten\, Zigarettenpackungen.
URL:https://m.abfall-gaf.ch/index.php?apid=394139591
DTSTART;TZID=Europe/Zurich:20261202T070000
DTEND;TZID=Europe/Zurich:20261202T073000
END:VEVENT
END:VCALENDAR