BEGIN:VCALENDAR
VERSION:2.0
PRODID:spatie/icalendar-generator
NAME:Abfallkalender Zuzgen
X-WR-CALNAME:Abfallkalender Zuzgen
BEGIN:VTIMEZONE
TZID:Europe/Zurich
BEGIN:STANDARD
DTSTART:20251026T030000
TZOFFSETFROM:+0200
TZOFFSETTO:+0100
END:STANDARD
BEGIN:DAYLIGHT
DTSTART:20260329T010000
TZOFFSETFROM:+0100
TZOFFSETTO:+0200
END:DAYLIGHT
BEGIN:STANDARD
DTSTART:20261025T030000
TZOFFSETFROM:+0200
TZOFFSETTO:+0100
END:STANDARD
BEGIN:DAYLIGHT
DTSTART:20270328T010000
TZOFFSETFROM:+0100
TZOFFSETTO:+0200
END:DAYLIGHT
END:VTIMEZONE
BEGIN:VTIMEZONE
TZID:UTC
BEGIN:STANDARD
DTSTART:20250726T091748
TZOFFSETFROM:+0000
TZOFFSETTO:+0000
END:STANDARD
END:VTIMEZONE
BEGIN:VEVENT
UID:69e8923cc0f5b
DTSTAMP:20260422T091748Z
SUMMARY:Kunststoffsammlung
DESCRIPTION: Kunststoff in Gebührensäcken\n35 Liter-Säcke: Rolle à 10 
 Stück: CHF 14.00\n60 Liter-Säcke: Rolle à 10 Stück: CHF 28.00\nFrüh
 estens am Vorabend\, spätestens bis\n07.00 Uhr des Abfuhrtages bereitste
 llen.\nWird 14täglich gesammelt. Verkaufsstellen\ngemäss Angaben auf u
 nserer Website.
URL:https://m.abfall-gaf.ch/index.php?apid=291564824
DTSTART;TZID=Europe/Zurich:20260430T070000
DTEND;TZID=Europe/Zurich:20260430T073000
END:VEVENT
BEGIN:VEVENT
UID:69e8923cc0fb6
DTSTAMP:20260422T091748Z
SUMMARY:Kunststoffsammlung
DESCRIPTION: Kunststoff in Gebührensäcken\n35 Liter-Säcke: Rolle à 10 
 Stück: CHF 14.00\n60 Liter-Säcke: Rolle à 10 Stück: CHF 28.00\nFrüh
 estens am Vorabend\, spätestens bis\n07.00 Uhr des Abfuhrtages bereitste
 llen.\nWird 14täglich gesammelt. Verkaufsstellen\ngemäss Angaben auf u
 nserer Website.
URL:https://m.abfall-gaf.ch/index.php?apid=291564824
DTSTART;TZID=Europe/Zurich:20260514T070000
DTEND;TZID=Europe/Zurich:20260514T073000
END:VEVENT
BEGIN:VEVENT
UID:69e8923cc0fc5
DTSTAMP:20260422T091748Z
SUMMARY:Kunststoffsammlung
DESCRIPTION: Kunststoff in Gebührensäcken\n35 Liter-Säcke: Rolle à 10 
 Stück: CHF 14.00\n60 Liter-Säcke: Rolle à 10 Stück: CHF 28.00\nFrüh
 estens am Vorabend\, spätestens bis\n07.00 Uhr des Abfuhrtages bereitste
 llen.\nWird 14täglich gesammelt. Verkaufsstellen\ngemäss Angaben auf u
 nserer Website.
URL:https://m.abfall-gaf.ch/index.php?apid=291564824
DTSTART;TZID=Europe/Zurich:20260528T070000
DTEND;TZID=Europe/Zurich:20260528T073000
END:VEVENT
BEGIN:VEVENT
UID:69e8923cc0fcf
DTSTAMP:20260422T091748Z
SUMMARY:Kunststoffsammlung
DESCRIPTION: Kunststoff in Gebührensäcken\n35 Liter-Säcke: Rolle à 10 
 Stück: CHF 14.00\n60 Liter-Säcke: Rolle à 10 Stück: CHF 28.00\nFrüh
 estens am Vorabend\, spätestens bis\n07.00 Uhr des Abfuhrtages bereitste
 llen.\nWird 14täglich gesammelt. Verkaufsstellen\ngemäss Angaben auf u
 nserer Website.
URL:https://m.abfall-gaf.ch/index.php?apid=291564824
DTSTART;TZID=Europe/Zurich:20260611T070000
DTEND;TZID=Europe/Zurich:20260611T073000
END:VEVENT
BEGIN:VEVENT
UID:69e8923cc0fda
DTSTAMP:20260422T091748Z
SUMMARY:Kunststoffsammlung
DESCRIPTION: Kunststoff in Gebührensäcken\n35 Liter-Säcke: Rolle à 10 
 Stück: CHF 14.00\n60 Liter-Säcke: Rolle à 10 Stück: CHF 28.00\nFrüh
 estens am Vorabend\, spätestens bis\n07.00 Uhr des Abfuhrtages bereitste
 llen.\nWird 14täglich gesammelt. Verkaufsstellen\ngemäss Angaben auf u
 nserer Website.
URL:https://m.abfall-gaf.ch/index.php?apid=291564824
DTSTART;TZID=Europe/Zurich:20260625T070000
DTEND;TZID=Europe/Zurich:20260625T073000
END:VEVENT
BEGIN:VEVENT
UID:69e8923cc0fe4
DTSTAMP:20260422T091748Z
SUMMARY:Kunststoffsammlung
DESCRIPTION: Kunststoff in Gebührensäcken\n35 Liter-Säcke: Rolle à 10 
 Stück: CHF 14.00\n60 Liter-Säcke: Rolle à 10 Stück: CHF 28.00\nFrüh
 estens am Vorabend\, spätestens bis\n07.00 Uhr des Abfuhrtages bereitste
 llen.\nWird 14täglich gesammelt. Verkaufsstellen\ngemäss Angaben auf u
 nserer Website.
URL:https://m.abfall-gaf.ch/index.php?apid=291564824
DTSTART;TZID=Europe/Zurich:20260709T070000
DTEND;TZID=Europe/Zurich:20260709T073000
END:VEVENT
BEGIN:VEVENT
UID:69e8923cc0fee
DTSTAMP:20260422T091748Z
SUMMARY:Kunststoffsammlung
DESCRIPTION: Kunststoff in Gebührensäcken\n35 Liter-Säcke: Rolle à 10 
 Stück: CHF 14.00\n60 Liter-Säcke: Rolle à 10 Stück: CHF 28.00\nFrüh
 estens am Vorabend\, spätestens bis\n07.00 Uhr des Abfuhrtages bereitste
 llen.\nWird 14täglich gesammelt. Verkaufsstellen\ngemäss Angaben auf u
 nserer Website.
URL:https://m.abfall-gaf.ch/index.php?apid=291564824
DTSTART;TZID=Europe/Zurich:20260723T070000
DTEND;TZID=Europe/Zurich:20260723T073000
END:VEVENT
BEGIN:VEVENT
UID:69e8923cc0ff7
DTSTAMP:20260422T091748Z
SUMMARY:Kunststoffsammlung
DESCRIPTION: Kunststoff in Gebührensäcken\n35 Liter-Säcke: Rolle à 10 
 Stück: CHF 14.00\n60 Liter-Säcke: Rolle à 10 Stück: CHF 28.00\nFrüh
 estens am Vorabend\, spätestens bis\n07.00 Uhr des Abfuhrtages bereitste
 llen.\nWird 14täglich gesammelt. Verkaufsstellen\ngemäss Angaben auf u
 nserer Website.
URL:https://m.abfall-gaf.ch/index.php?apid=291564824
DTSTART;TZID=Europe/Zurich:20260806T070000
DTEND;TZID=Europe/Zurich:20260806T073000
END:VEVENT
BEGIN:VEVENT
UID:69e8923cc1001
DTSTAMP:20260422T091748Z
SUMMARY:Kunststoffsammlung
DESCRIPTION: Kunststoff in Gebührensäcken\n35 Liter-Säcke: Rolle à 10 
 Stück: CHF 14.00\n60 Liter-Säcke: Rolle à 10 Stück: CHF 28.00\nFrüh
 estens am Vorabend\, spätestens bis\n07.00 Uhr des Abfuhrtages bereitste
 llen.\nWird 14täglich gesammelt. Verkaufsstellen\ngemäss Angaben auf u
 nserer Website.
URL:https://m.abfall-gaf.ch/index.php?apid=291564824
DTSTART;TZID=Europe/Zurich:20260820T070000
DTEND;TZID=Europe/Zurich:20260820T073000
END:VEVENT
BEGIN:VEVENT
UID:69e8923cc100b
DTSTAMP:20260422T091748Z
SUMMARY:Kunststoffsammlung
DESCRIPTION: Kunststoff in Gebührensäcken\n35 Liter-Säcke: Rolle à 10 
 Stück: CHF 14.00\n60 Liter-Säcke: Rolle à 10 Stück: CHF 28.00\nFrüh
 estens am Vorabend\, spätestens bis\n07.00 Uhr des Abfuhrtages bereitste
 llen.\nWird 14täglich gesammelt. Verkaufsstellen\ngemäss Angaben auf u
 nserer Website.
URL:https://m.abfall-gaf.ch/index.php?apid=291564824
DTSTART;TZID=Europe/Zurich:20260903T070000
DTEND;TZID=Europe/Zurich:20260903T073000
END:VEVENT
BEGIN:VEVENT
UID:69e8923cc1014
DTSTAMP:20260422T091748Z
SUMMARY:Kunststoffsammlung
DESCRIPTION: Kunststoff in Gebührensäcken\n35 Liter-Säcke: Rolle à 10 
 Stück: CHF 14.00\n60 Liter-Säcke: Rolle à 10 Stück: CHF 28.00\nFrüh
 estens am Vorabend\, spätestens bis\n07.00 Uhr des Abfuhrtages bereitste
 llen.\nWird 14täglich gesammelt. Verkaufsstellen\ngemäss Angaben auf u
 nserer Website.
URL:https://m.abfall-gaf.ch/index.php?apid=291564824
DTSTART;TZID=Europe/Zurich:20260917T070000
DTEND;TZID=Europe/Zurich:20260917T073000
END:VEVENT
BEGIN:VEVENT
UID:69e8923cc101e
DTSTAMP:20260422T091748Z
SUMMARY:Kunststoffsammlung
DESCRIPTION: Kunststoff in Gebührensäcken\n35 Liter-Säcke: Rolle à 10 
 Stück: CHF 14.00\n60 Liter-Säcke: Rolle à 10 Stück: CHF 28.00\nFrüh
 estens am Vorabend\, spätestens bis\n07.00 Uhr des Abfuhrtages bereitste
 llen.\nWird 14täglich gesammelt. Verkaufsstellen\ngemäss Angaben auf u
 nserer Website.
URL:https://m.abfall-gaf.ch/index.php?apid=291564824
DTSTART;TZID=Europe/Zurich:20261001T070000
DTEND;TZID=Europe/Zurich:20261001T073000
END:VEVENT
BEGIN:VEVENT
UID:69e8923cc1028
DTSTAMP:20260422T091748Z
SUMMARY:Kunststoffsammlung
DESCRIPTION: Kunststoff in Gebührensäcken\n35 Liter-Säcke: Rolle à 10 
 Stück: CHF 14.00\n60 Liter-Säcke: Rolle à 10 Stück: CHF 28.00\nFrüh
 estens am Vorabend\, spätestens bis\n07.00 Uhr des Abfuhrtages bereitste
 llen.\nWird 14täglich gesammelt. Verkaufsstellen\ngemäss Angaben auf u
 nserer Website.
URL:https://m.abfall-gaf.ch/index.php?apid=291564824
DTSTART;TZID=Europe/Zurich:20261015T070000
DTEND;TZID=Europe/Zurich:20261015T073000
END:VEVENT
BEGIN:VEVENT
UID:69e8923cc1031
DTSTAMP:20260422T091748Z
SUMMARY:Kunststoffsammlung
DESCRIPTION: Kunststoff in Gebührensäcken\n35 Liter-Säcke: Rolle à 10 
 Stück: CHF 14.00\n60 Liter-Säcke: Rolle à 10 Stück: CHF 28.00\nFrüh
 estens am Vorabend\, spätestens bis\n07.00 Uhr des Abfuhrtages bereitste
 llen.\nWird 14täglich gesammelt. Verkaufsstellen\ngemäss Angaben auf u
 nserer Website.
URL:https://m.abfall-gaf.ch/index.php?apid=291564824
DTSTART;TZID=Europe/Zurich:20261029T070000
DTEND;TZID=Europe/Zurich:20261029T073000
END:VEVENT
BEGIN:VEVENT
UID:69e8923cc103a
DTSTAMP:20260422T091748Z
SUMMARY:Kunststoffsammlung
DESCRIPTION: Kunststoff in Gebührensäcken\n35 Liter-Säcke: Rolle à 10 
 Stück: CHF 14.00\n60 Liter-Säcke: Rolle à 10 Stück: CHF 28.00\nFrüh
 estens am Vorabend\, spätestens bis\n07.00 Uhr des Abfuhrtages bereitste
 llen.\nWird 14täglich gesammelt. Verkaufsstellen\ngemäss Angaben auf u
 nserer Website.
URL:https://m.abfall-gaf.ch/index.php?apid=291564824
DTSTART;TZID=Europe/Zurich:20261112T070000
DTEND;TZID=Europe/Zurich:20261112T073000
END:VEVENT
BEGIN:VEVENT
UID:69e8923cc1044
DTSTAMP:20260422T091748Z
SUMMARY:Kunststoffsammlung
DESCRIPTION: Kunststoff in Gebührensäcken\n35 Liter-Säcke: Rolle à 10 
 Stück: CHF 14.00\n60 Liter-Säcke: Rolle à 10 Stück: CHF 28.00\nFrüh
 estens am Vorabend\, spätestens bis\n07.00 Uhr des Abfuhrtages bereitste
 llen.\nWird 14täglich gesammelt. Verkaufsstellen\ngemäss Angaben auf u
 nserer Website.
URL:https://m.abfall-gaf.ch/index.php?apid=291564824
DTSTART;TZID=Europe/Zurich:20261126T070000
DTEND;TZID=Europe/Zurich:20261126T073000
END:VEVENT
BEGIN:VEVENT
UID:69e8923cc104e
DTSTAMP:20260422T091748Z
SUMMARY:Kunststoffsammlung
DESCRIPTION: Kunststoff in Gebührensäcken\n35 Liter-Säcke: Rolle à 10 
 Stück: CHF 14.00\n60 Liter-Säcke: Rolle à 10 Stück: CHF 28.00\nFrüh
 estens am Vorabend\, spätestens bis\n07.00 Uhr des Abfuhrtages bereitste
 llen.\nWird 14täglich gesammelt. Verkaufsstellen\ngemäss Angaben auf u
 nserer Website.
URL:https://m.abfall-gaf.ch/index.php?apid=291564824
DTSTART;TZID=Europe/Zurich:20261210T070000
DTEND;TZID=Europe/Zurich:20261210T073000
END:VEVENT
BEGIN:VEVENT
UID:69e8923cc1058
DTSTAMP:20260422T091748Z
SUMMARY:Kunststoffsammlung
DESCRIPTION: Kunststoff in Gebührensäcken\n35 Liter-Säcke: Rolle à 10 
 Stück: CHF 14.00\n60 Liter-Säcke: Rolle à 10 Stück: CHF 28.00\nFrüh
 estens am Vorabend\, spätestens bis\n07.00 Uhr des Abfuhrtages bereitste
 llen.\nWird 14täglich gesammelt. Verkaufsstellen\ngemäss Angaben auf u
 nserer Website.
URL:https://m.abfall-gaf.ch/index.php?apid=291564824
DTSTART;TZID=Europe/Zurich:20261224T070000
DTEND;TZID=Europe/Zurich:20261224T073000
END:VEVENT
END:VCALENDAR