BEGIN:VCALENDAR
VERSION:2.0
PRODID:spatie/icalendar-generator
NAME:Abfallkalender Arisdorf
X-WR-CALNAME:Abfallkalender Arisdorf
BEGIN:VTIMEZONE
TZID:Europe/Zurich
BEGIN:STANDARD
DTSTART:20251026T030000
TZOFFSETFROM:+0200
TZOFFSETTO:+0100
END:STANDARD
BEGIN:DAYLIGHT
DTSTART:20260329T010000
TZOFFSETFROM:+0100
TZOFFSETTO:+0200
END:DAYLIGHT
BEGIN:STANDARD
DTSTART:20261025T030000
TZOFFSETFROM:+0200
TZOFFSETTO:+0100
END:STANDARD
BEGIN:DAYLIGHT
DTSTART:20270328T010000
TZOFFSETFROM:+0100
TZOFFSETTO:+0200
END:DAYLIGHT
END:VTIMEZONE
BEGIN:VTIMEZONE
TZID:UTC
BEGIN:STANDARD
DTSTART:20250724T092303
TZOFFSETFROM:+0000
TZOFFSETTO:+0000
END:STANDARD
END:VTIMEZONE
BEGIN:VEVENT
UID:69e5f07722503
DTSTAMP:20260420T092303Z
SUMMARY:Grüntour
DESCRIPTION: 
URL:https://m.abfall-gaf.ch/index.php?apid=2113603809
DTSTART;TZID=Europe/Zurich:20260424T070000
DTEND;TZID=Europe/Zurich:20260424T073000
END:VEVENT
BEGIN:VEVENT
UID:69e5f07722557
DTSTAMP:20260420T092303Z
SUMMARY:Grüntour
DESCRIPTION: 
URL:https://m.abfall-gaf.ch/index.php?apid=2113603809
DTSTART;TZID=Europe/Zurich:20260501T070000
DTEND;TZID=Europe/Zurich:20260501T073000
END:VEVENT
BEGIN:VEVENT
UID:69e5f07722565
DTSTAMP:20260420T092303Z
SUMMARY:Grüntour
DESCRIPTION: 
URL:https://m.abfall-gaf.ch/index.php?apid=2113603809
DTSTART;TZID=Europe/Zurich:20260508T070000
DTEND;TZID=Europe/Zurich:20260508T073000
END:VEVENT
BEGIN:VEVENT
UID:69e5f0772256f
DTSTAMP:20260420T092303Z
SUMMARY:Grüntour
DESCRIPTION: 
URL:https://m.abfall-gaf.ch/index.php?apid=2113603809
DTSTART;TZID=Europe/Zurich:20260515T070000
DTEND;TZID=Europe/Zurich:20260515T073000
END:VEVENT
BEGIN:VEVENT
UID:69e5f07722579
DTSTAMP:20260420T092303Z
SUMMARY:Grüntour
DESCRIPTION: 
URL:https://m.abfall-gaf.ch/index.php?apid=2113603809
DTSTART;TZID=Europe/Zurich:20260522T070000
DTEND;TZID=Europe/Zurich:20260522T073000
END:VEVENT
BEGIN:VEVENT
UID:69e5f07722581
DTSTAMP:20260420T092303Z
SUMMARY:Grüntour
DESCRIPTION: 
URL:https://m.abfall-gaf.ch/index.php?apid=2113603809
DTSTART;TZID=Europe/Zurich:20260529T070000
DTEND;TZID=Europe/Zurich:20260529T073000
END:VEVENT
BEGIN:VEVENT
UID:69e5f0772258a
DTSTAMP:20260420T092303Z
SUMMARY:Grüntour
DESCRIPTION: 
URL:https://m.abfall-gaf.ch/index.php?apid=2113603809
DTSTART;TZID=Europe/Zurich:20260605T070000
DTEND;TZID=Europe/Zurich:20260605T073000
END:VEVENT
BEGIN:VEVENT
UID:69e5f07722593
DTSTAMP:20260420T092303Z
SUMMARY:Grüntour
DESCRIPTION: 
URL:https://m.abfall-gaf.ch/index.php?apid=2113603809
DTSTART;TZID=Europe/Zurich:20260612T070000
DTEND;TZID=Europe/Zurich:20260612T073000
END:VEVENT
BEGIN:VEVENT
UID:69e5f0772259b
DTSTAMP:20260420T092303Z
SUMMARY:Grüntour
DESCRIPTION: 
URL:https://m.abfall-gaf.ch/index.php?apid=2113603809
DTSTART;TZID=Europe/Zurich:20260619T070000
DTEND;TZID=Europe/Zurich:20260619T073000
END:VEVENT
BEGIN:VEVENT
UID:69e5f077225a5
DTSTAMP:20260420T092303Z
SUMMARY:Grüntour
DESCRIPTION: 
URL:https://m.abfall-gaf.ch/index.php?apid=2113603809
DTSTART;TZID=Europe/Zurich:20260626T070000
DTEND;TZID=Europe/Zurich:20260626T073000
END:VEVENT
BEGIN:VEVENT
UID:69e5f077225ae
DTSTAMP:20260420T092303Z
SUMMARY:Grüntour
DESCRIPTION: 
URL:https://m.abfall-gaf.ch/index.php?apid=2113603809
DTSTART;TZID=Europe/Zurich:20260703T070000
DTEND;TZID=Europe/Zurich:20260703T073000
END:VEVENT
BEGIN:VEVENT
UID:69e5f077225b7
DTSTAMP:20260420T092303Z
SUMMARY:Grüntour
DESCRIPTION: 
URL:https://m.abfall-gaf.ch/index.php?apid=2113603809
DTSTART;TZID=Europe/Zurich:20260710T070000
DTEND;TZID=Europe/Zurich:20260710T073000
END:VEVENT
BEGIN:VEVENT
UID:69e5f077225c0
DTSTAMP:20260420T092303Z
SUMMARY:Grüntour
DESCRIPTION: 
URL:https://m.abfall-gaf.ch/index.php?apid=2113603809
DTSTART;TZID=Europe/Zurich:20260717T070000
DTEND;TZID=Europe/Zurich:20260717T073000
END:VEVENT
BEGIN:VEVENT
UID:69e5f077225c9
DTSTAMP:20260420T092303Z
SUMMARY:Grüntour
DESCRIPTION: 
URL:https://m.abfall-gaf.ch/index.php?apid=2113603809
DTSTART;TZID=Europe/Zurich:20260724T070000
DTEND;TZID=Europe/Zurich:20260724T073000
END:VEVENT
BEGIN:VEVENT
UID:69e5f077225d2
DTSTAMP:20260420T092303Z
SUMMARY:Grüntour
DESCRIPTION: 
URL:https://m.abfall-gaf.ch/index.php?apid=2113603809
DTSTART;TZID=Europe/Zurich:20260731T070000
DTEND;TZID=Europe/Zurich:20260731T073000
END:VEVENT
BEGIN:VEVENT
UID:69e5f077225db
DTSTAMP:20260420T092303Z
SUMMARY:Grüntour
DESCRIPTION: 
URL:https://m.abfall-gaf.ch/index.php?apid=2113603809
DTSTART;TZID=Europe/Zurich:20260807T070000
DTEND;TZID=Europe/Zurich:20260807T073000
END:VEVENT
BEGIN:VEVENT
UID:69e5f077225e4
DTSTAMP:20260420T092303Z
SUMMARY:Grüntour
DESCRIPTION: 
URL:https://m.abfall-gaf.ch/index.php?apid=2113603809
DTSTART;TZID=Europe/Zurich:20260814T070000
DTEND;TZID=Europe/Zurich:20260814T073000
END:VEVENT
BEGIN:VEVENT
UID:69e5f077225ed
DTSTAMP:20260420T092303Z
SUMMARY:Grüntour
DESCRIPTION: 
URL:https://m.abfall-gaf.ch/index.php?apid=2113603809
DTSTART;TZID=Europe/Zurich:20260821T070000
DTEND;TZID=Europe/Zurich:20260821T073000
END:VEVENT
BEGIN:VEVENT
UID:69e5f077225f5
DTSTAMP:20260420T092303Z
SUMMARY:Grüntour
DESCRIPTION: 
URL:https://m.abfall-gaf.ch/index.php?apid=2113603809
DTSTART;TZID=Europe/Zurich:20260828T070000
DTEND;TZID=Europe/Zurich:20260828T073000
END:VEVENT
BEGIN:VEVENT
UID:69e5f077225fe
DTSTAMP:20260420T092303Z
SUMMARY:Grüntour
DESCRIPTION: 
URL:https://m.abfall-gaf.ch/index.php?apid=2113603809
DTSTART;TZID=Europe/Zurich:20260904T070000
DTEND;TZID=Europe/Zurich:20260904T073000
END:VEVENT
BEGIN:VEVENT
UID:69e5f07722607
DTSTAMP:20260420T092303Z
SUMMARY:Grüntour
DESCRIPTION: 
URL:https://m.abfall-gaf.ch/index.php?apid=2113603809
DTSTART;TZID=Europe/Zurich:20260911T070000
DTEND;TZID=Europe/Zurich:20260911T073000
END:VEVENT
BEGIN:VEVENT
UID:69e5f07722610
DTSTAMP:20260420T092303Z
SUMMARY:Grüntour
DESCRIPTION: 
URL:https://m.abfall-gaf.ch/index.php?apid=2113603809
DTSTART;TZID=Europe/Zurich:20260918T070000
DTEND;TZID=Europe/Zurich:20260918T073000
END:VEVENT
BEGIN:VEVENT
UID:69e5f07722619
DTSTAMP:20260420T092303Z
SUMMARY:Grüntour
DESCRIPTION: 
URL:https://m.abfall-gaf.ch/index.php?apid=2113603809
DTSTART;TZID=Europe/Zurich:20260925T070000
DTEND;TZID=Europe/Zurich:20260925T073000
END:VEVENT
BEGIN:VEVENT
UID:69e5f07722623
DTSTAMP:20260420T092303Z
SUMMARY:Grüntour
DESCRIPTION: 
URL:https://m.abfall-gaf.ch/index.php?apid=2113603809
DTSTART;TZID=Europe/Zurich:20261002T070000
DTEND;TZID=Europe/Zurich:20261002T073000
END:VEVENT
BEGIN:VEVENT
UID:69e5f0772262c
DTSTAMP:20260420T092303Z
SUMMARY:Grüntour
DESCRIPTION: 
URL:https://m.abfall-gaf.ch/index.php?apid=2113603809
DTSTART;TZID=Europe/Zurich:20261009T070000
DTEND;TZID=Europe/Zurich:20261009T073000
END:VEVENT
BEGIN:VEVENT
UID:69e5f07722636
DTSTAMP:20260420T092303Z
SUMMARY:Grüntour
DESCRIPTION: 
URL:https://m.abfall-gaf.ch/index.php?apid=2113603809
DTSTART;TZID=Europe/Zurich:20261016T070000
DTEND;TZID=Europe/Zurich:20261016T073000
END:VEVENT
BEGIN:VEVENT
UID:69e5f0772263f
DTSTAMP:20260420T092303Z
SUMMARY:Grüntour
DESCRIPTION: 
URL:https://m.abfall-gaf.ch/index.php?apid=2113603809
DTSTART;TZID=Europe/Zurich:20261023T070000
DTEND;TZID=Europe/Zurich:20261023T073000
END:VEVENT
BEGIN:VEVENT
UID:69e5f07722648
DTSTAMP:20260420T092303Z
SUMMARY:Grüntour
DESCRIPTION: 
URL:https://m.abfall-gaf.ch/index.php?apid=2113603809
DTSTART;TZID=Europe/Zurich:20261030T070000
DTEND;TZID=Europe/Zurich:20261030T073000
END:VEVENT
BEGIN:VEVENT
UID:69e5f07722651
DTSTAMP:20260420T092303Z
SUMMARY:Grüntour
DESCRIPTION: 
URL:https://m.abfall-gaf.ch/index.php?apid=2113603809
DTSTART;TZID=Europe/Zurich:20261106T070000
DTEND;TZID=Europe/Zurich:20261106T073000
END:VEVENT
BEGIN:VEVENT
UID:69e5f0772265a
DTSTAMP:20260420T092303Z
SUMMARY:Grüntour
DESCRIPTION: 
URL:https://m.abfall-gaf.ch/index.php?apid=2113603809
DTSTART;TZID=Europe/Zurich:20261113T070000
DTEND;TZID=Europe/Zurich:20261113T073000
END:VEVENT
BEGIN:VEVENT
UID:69e5f07722663
DTSTAMP:20260420T092303Z
SUMMARY:Grüntour
DESCRIPTION: 
URL:https://m.abfall-gaf.ch/index.php?apid=2113603809
DTSTART;TZID=Europe/Zurich:20261120T070000
DTEND;TZID=Europe/Zurich:20261120T073000
END:VEVENT
BEGIN:VEVENT
UID:69e5f0772266d
DTSTAMP:20260420T092303Z
SUMMARY:Grüntour
DESCRIPTION: 
URL:https://m.abfall-gaf.ch/index.php?apid=2113603809
DTSTART;TZID=Europe/Zurich:20261127T070000
DTEND;TZID=Europe/Zurich:20261127T073000
END:VEVENT
BEGIN:VEVENT
UID:69e5f07722676
DTSTAMP:20260420T092303Z
SUMMARY:Grüntour
DESCRIPTION: 
URL:https://m.abfall-gaf.ch/index.php?apid=2113603809
DTSTART;TZID=Europe/Zurich:20261204T070000
DTEND;TZID=Europe/Zurich:20261204T073000
END:VEVENT
BEGIN:VEVENT
UID:69e5f0772267f
DTSTAMP:20260420T092303Z
SUMMARY:Grüntour
DESCRIPTION: 
URL:https://m.abfall-gaf.ch/index.php?apid=2113603809
DTSTART;TZID=Europe/Zurich:20261211T070000
DTEND;TZID=Europe/Zurich:20261211T073000
END:VEVENT
BEGIN:VEVENT
UID:69e5f07722689
DTSTAMP:20260420T092303Z
SUMMARY:Grüntour
DESCRIPTION: 
URL:https://m.abfall-gaf.ch/index.php?apid=2113603809
DTSTART;TZID=Europe/Zurich:20261218T070000
DTEND;TZID=Europe/Zurich:20261218T073000
END:VEVENT
BEGIN:VEVENT
UID:69e5f07722691
DTSTAMP:20260420T092303Z
SUMMARY:Grüntour
DESCRIPTION: 
URL:https://m.abfall-gaf.ch/index.php?apid=2113603809
DTSTART;TZID=Europe/Zurich:20261225T070000
DTEND;TZID=Europe/Zurich:20261225T073000
END:VEVENT
BEGIN:VEVENT
UID:69e5f0772269c
DTSTAMP:20260420T092303Z
SUMMARY:Grüntour
DESCRIPTION: 
URL:https://m.abfall-gaf.ch/index.php?apid=2113603809
DTSTART;TZID=Europe/Zurich:20270101T070000
DTEND;TZID=Europe/Zurich:20270101T073000
END:VEVENT
BEGIN:VEVENT
UID:69e5f077226a5
DTSTAMP:20260420T092303Z
SUMMARY:Grüntour
DESCRIPTION: 
URL:https://m.abfall-gaf.ch/index.php?apid=2113603809
DTSTART;TZID=Europe/Zurich:20270102T070000
DTEND;TZID=Europe/Zurich:20270102T073000
END:VEVENT
END:VCALENDAR