BEGIN:VCALENDAR
VERSION:2.0
PRODID:spatie/icalendar-generator
NAME:Abfallkalender Wallbach
X-WR-CALNAME:Abfallkalender Wallbach
BEGIN:VTIMEZONE
TZID:Europe/Zurich
BEGIN:STANDARD
DTSTART:20251026T030000
TZOFFSETFROM:+0200
TZOFFSETTO:+0100
END:STANDARD
BEGIN:DAYLIGHT
DTSTART:20260329T010000
TZOFFSETFROM:+0100
TZOFFSETTO:+0200
END:DAYLIGHT
BEGIN:STANDARD
DTSTART:20261025T030000
TZOFFSETFROM:+0200
TZOFFSETTO:+0100
END:STANDARD
BEGIN:DAYLIGHT
DTSTART:20270328T010000
TZOFFSETFROM:+0100
TZOFFSETTO:+0200
END:DAYLIGHT
END:VTIMEZONE
BEGIN:VTIMEZONE
TZID:UTC
BEGIN:STANDARD
DTSTART:20250724T093642
TZOFFSETFROM:+0000
TZOFFSETTO:+0000
END:STANDARD
END:VTIMEZONE
BEGIN:VEVENT
UID:69e5f3aa75d20
DTSTAMP:20260420T093642Z
SUMMARY:Kehrichtsammlung
DESCRIPTION: Bereitstellung Hauskehricht\, Sperrgut und Container\nAm Vorab
 end frühestens ab 19.00 Uhr und bis spätestens 07.00 Uhr des Abfuhrtages
 . \nAn allgemeinen Feiertagen findet keine Abfall-Entsorgungs-Tour statt.
  Die Ersatztouren werden zusätzlich im fricktal.info publiziert.
URL:https://m.abfall-gaf.ch/index.php?apid=2075907219
DTSTART;TZID=Europe/Zurich:20260423T070000
DTEND;TZID=Europe/Zurich:20260423T073000
END:VEVENT
BEGIN:VEVENT
UID:69e5f3aa75d77
DTSTAMP:20260420T093642Z
SUMMARY:Kehrichtsammlung
DESCRIPTION: Bereitstellung Hauskehricht\, Sperrgut und Container\nAm Vorab
 end frühestens ab 19.00 Uhr und bis spätestens 07.00 Uhr des Abfuhrtages
 . \nAn allgemeinen Feiertagen findet keine Abfall-Entsorgungs-Tour statt.
  Die Ersatztouren werden zusätzlich im fricktal.info publiziert.
URL:https://m.abfall-gaf.ch/index.php?apid=2075907219
DTSTART;TZID=Europe/Zurich:20260430T070000
DTEND;TZID=Europe/Zurich:20260430T073000
END:VEVENT
BEGIN:VEVENT
UID:69e5f3aa75d85
DTSTAMP:20260420T093642Z
SUMMARY:Kehrichtsammlung
DESCRIPTION: Bereitstellung Hauskehricht\, Sperrgut und Container\nAm Vorab
 end frühestens ab 19.00 Uhr und bis spätestens 07.00 Uhr des Abfuhrtages
 . \nAn allgemeinen Feiertagen findet keine Abfall-Entsorgungs-Tour statt.
  Die Ersatztouren werden zusätzlich im fricktal.info publiziert.
URL:https://m.abfall-gaf.ch/index.php?apid=2075907219
DTSTART;TZID=Europe/Zurich:20260507T070000
DTEND;TZID=Europe/Zurich:20260507T073000
END:VEVENT
BEGIN:VEVENT
UID:69e5f3aa75d90
DTSTAMP:20260420T093642Z
SUMMARY:Kehrichtsammlung
DESCRIPTION: Bereitstellung Hauskehricht\, Sperrgut und Container\nAm Vorab
 end frühestens ab 19.00 Uhr und bis spätestens 07.00 Uhr des Abfuhrtages
 . \nAn allgemeinen Feiertagen findet keine Abfall-Entsorgungs-Tour statt.
  Die Ersatztouren werden zusätzlich im fricktal.info publiziert.
URL:https://m.abfall-gaf.ch/index.php?apid=2075907219
DTSTART;TZID=Europe/Zurich:20260514T070000
DTEND;TZID=Europe/Zurich:20260514T073000
END:VEVENT
BEGIN:VEVENT
UID:69e5f3aa75d9b
DTSTAMP:20260420T093642Z
SUMMARY:Kehrichtsammlung
DESCRIPTION: Bereitstellung Hauskehricht\, Sperrgut und Container\nAm Vorab
 end frühestens ab 19.00 Uhr und bis spätestens 07.00 Uhr des Abfuhrtages
 . \nAn allgemeinen Feiertagen findet keine Abfall-Entsorgungs-Tour statt.
  Die Ersatztouren werden zusätzlich im fricktal.info publiziert.
URL:https://m.abfall-gaf.ch/index.php?apid=2075907219
DTSTART;TZID=Europe/Zurich:20260521T070000
DTEND;TZID=Europe/Zurich:20260521T073000
END:VEVENT
BEGIN:VEVENT
UID:69e5f3aa75da5
DTSTAMP:20260420T093642Z
SUMMARY:Kehrichtsammlung
DESCRIPTION: Bereitstellung Hauskehricht\, Sperrgut und Container\nAm Vorab
 end frühestens ab 19.00 Uhr und bis spätestens 07.00 Uhr des Abfuhrtages
 . \nAn allgemeinen Feiertagen findet keine Abfall-Entsorgungs-Tour statt.
  Die Ersatztouren werden zusätzlich im fricktal.info publiziert.
URL:https://m.abfall-gaf.ch/index.php?apid=2075907219
DTSTART;TZID=Europe/Zurich:20260528T070000
DTEND;TZID=Europe/Zurich:20260528T073000
END:VEVENT
BEGIN:VEVENT
UID:69e5f3aa75dae
DTSTAMP:20260420T093642Z
SUMMARY:Kehrichtsammlung
DESCRIPTION: Bereitstellung Hauskehricht\, Sperrgut und Container\nAm Vorab
 end frühestens ab 19.00 Uhr und bis spätestens 07.00 Uhr des Abfuhrtages
 . \nAn allgemeinen Feiertagen findet keine Abfall-Entsorgungs-Tour statt.
  Die Ersatztouren werden zusätzlich im fricktal.info publiziert.
URL:https://m.abfall-gaf.ch/index.php?apid=2075907219
DTSTART;TZID=Europe/Zurich:20260604T070000
DTEND;TZID=Europe/Zurich:20260604T073000
END:VEVENT
BEGIN:VEVENT
UID:69e5f3aa75db8
DTSTAMP:20260420T093642Z
SUMMARY:Kehrichtsammlung
DESCRIPTION: Bereitstellung Hauskehricht\, Sperrgut und Container\nAm Vorab
 end frühestens ab 19.00 Uhr und bis spätestens 07.00 Uhr des Abfuhrtages
 . \nAn allgemeinen Feiertagen findet keine Abfall-Entsorgungs-Tour statt.
  Die Ersatztouren werden zusätzlich im fricktal.info publiziert.
URL:https://m.abfall-gaf.ch/index.php?apid=2075907219
DTSTART;TZID=Europe/Zurich:20260611T070000
DTEND;TZID=Europe/Zurich:20260611T073000
END:VEVENT
BEGIN:VEVENT
UID:69e5f3aa75dc2
DTSTAMP:20260420T093642Z
SUMMARY:Kehrichtsammlung
DESCRIPTION: Bereitstellung Hauskehricht\, Sperrgut und Container\nAm Vorab
 end frühestens ab 19.00 Uhr und bis spätestens 07.00 Uhr des Abfuhrtages
 . \nAn allgemeinen Feiertagen findet keine Abfall-Entsorgungs-Tour statt.
  Die Ersatztouren werden zusätzlich im fricktal.info publiziert.
URL:https://m.abfall-gaf.ch/index.php?apid=2075907219
DTSTART;TZID=Europe/Zurich:20260618T070000
DTEND;TZID=Europe/Zurich:20260618T073000
END:VEVENT
BEGIN:VEVENT
UID:69e5f3aa75dcc
DTSTAMP:20260420T093642Z
SUMMARY:Kehrichtsammlung
DESCRIPTION: Bereitstellung Hauskehricht\, Sperrgut und Container\nAm Vorab
 end frühestens ab 19.00 Uhr und bis spätestens 07.00 Uhr des Abfuhrtages
 . \nAn allgemeinen Feiertagen findet keine Abfall-Entsorgungs-Tour statt.
  Die Ersatztouren werden zusätzlich im fricktal.info publiziert.
URL:https://m.abfall-gaf.ch/index.php?apid=2075907219
DTSTART;TZID=Europe/Zurich:20260625T070000
DTEND;TZID=Europe/Zurich:20260625T073000
END:VEVENT
BEGIN:VEVENT
UID:69e5f3aa75dd6
DTSTAMP:20260420T093642Z
SUMMARY:Kehrichtsammlung
DESCRIPTION: Bereitstellung Hauskehricht\, Sperrgut und Container\nAm Vorab
 end frühestens ab 19.00 Uhr und bis spätestens 07.00 Uhr des Abfuhrtages
 . \nAn allgemeinen Feiertagen findet keine Abfall-Entsorgungs-Tour statt.
  Die Ersatztouren werden zusätzlich im fricktal.info publiziert.
URL:https://m.abfall-gaf.ch/index.php?apid=2075907219
DTSTART;TZID=Europe/Zurich:20260702T070000
DTEND;TZID=Europe/Zurich:20260702T073000
END:VEVENT
BEGIN:VEVENT
UID:69e5f3aa75de0
DTSTAMP:20260420T093642Z
SUMMARY:Kehrichtsammlung
DESCRIPTION: Bereitstellung Hauskehricht\, Sperrgut und Container\nAm Vorab
 end frühestens ab 19.00 Uhr und bis spätestens 07.00 Uhr des Abfuhrtages
 . \nAn allgemeinen Feiertagen findet keine Abfall-Entsorgungs-Tour statt.
  Die Ersatztouren werden zusätzlich im fricktal.info publiziert.
URL:https://m.abfall-gaf.ch/index.php?apid=2075907219
DTSTART;TZID=Europe/Zurich:20260709T070000
DTEND;TZID=Europe/Zurich:20260709T073000
END:VEVENT
BEGIN:VEVENT
UID:69e5f3aa75dea
DTSTAMP:20260420T093642Z
SUMMARY:Kehrichtsammlung
DESCRIPTION: Bereitstellung Hauskehricht\, Sperrgut und Container\nAm Vorab
 end frühestens ab 19.00 Uhr und bis spätestens 07.00 Uhr des Abfuhrtages
 . \nAn allgemeinen Feiertagen findet keine Abfall-Entsorgungs-Tour statt.
  Die Ersatztouren werden zusätzlich im fricktal.info publiziert.
URL:https://m.abfall-gaf.ch/index.php?apid=2075907219
DTSTART;TZID=Europe/Zurich:20260716T070000
DTEND;TZID=Europe/Zurich:20260716T073000
END:VEVENT
BEGIN:VEVENT
UID:69e5f3aa75df4
DTSTAMP:20260420T093642Z
SUMMARY:Kehrichtsammlung
DESCRIPTION: Bereitstellung Hauskehricht\, Sperrgut und Container\nAm Vorab
 end frühestens ab 19.00 Uhr und bis spätestens 07.00 Uhr des Abfuhrtages
 . \nAn allgemeinen Feiertagen findet keine Abfall-Entsorgungs-Tour statt.
  Die Ersatztouren werden zusätzlich im fricktal.info publiziert.
URL:https://m.abfall-gaf.ch/index.php?apid=2075907219
DTSTART;TZID=Europe/Zurich:20260723T070000
DTEND;TZID=Europe/Zurich:20260723T073000
END:VEVENT
BEGIN:VEVENT
UID:69e5f3aa75dfe
DTSTAMP:20260420T093642Z
SUMMARY:Kehrichtsammlung
DESCRIPTION: Bereitstellung Hauskehricht\, Sperrgut und Container\nAm Vorab
 end frühestens ab 19.00 Uhr und bis spätestens 07.00 Uhr des Abfuhrtages
 . \nAn allgemeinen Feiertagen findet keine Abfall-Entsorgungs-Tour statt.
  Die Ersatztouren werden zusätzlich im fricktal.info publiziert.
URL:https://m.abfall-gaf.ch/index.php?apid=2075907219
DTSTART;TZID=Europe/Zurich:20260730T070000
DTEND;TZID=Europe/Zurich:20260730T073000
END:VEVENT
BEGIN:VEVENT
UID:69e5f3aa75e08
DTSTAMP:20260420T093642Z
SUMMARY:Kehrichtsammlung
DESCRIPTION: Bereitstellung Hauskehricht\, Sperrgut und Container\nAm Vorab
 end frühestens ab 19.00 Uhr und bis spätestens 07.00 Uhr des Abfuhrtages
 . \nAn allgemeinen Feiertagen findet keine Abfall-Entsorgungs-Tour statt.
  Die Ersatztouren werden zusätzlich im fricktal.info publiziert.
URL:https://m.abfall-gaf.ch/index.php?apid=2075907219
DTSTART;TZID=Europe/Zurich:20260806T070000
DTEND;TZID=Europe/Zurich:20260806T073000
END:VEVENT
BEGIN:VEVENT
UID:69e5f3aa75e11
DTSTAMP:20260420T093642Z
SUMMARY:Kehrichtsammlung
DESCRIPTION: Bereitstellung Hauskehricht\, Sperrgut und Container\nAm Vorab
 end frühestens ab 19.00 Uhr und bis spätestens 07.00 Uhr des Abfuhrtages
 . \nAn allgemeinen Feiertagen findet keine Abfall-Entsorgungs-Tour statt.
  Die Ersatztouren werden zusätzlich im fricktal.info publiziert.
URL:https://m.abfall-gaf.ch/index.php?apid=2075907219
DTSTART;TZID=Europe/Zurich:20260813T070000
DTEND;TZID=Europe/Zurich:20260813T073000
END:VEVENT
BEGIN:VEVENT
UID:69e5f3aa75e1b
DTSTAMP:20260420T093642Z
SUMMARY:Kehrichtsammlung
DESCRIPTION: Bereitstellung Hauskehricht\, Sperrgut und Container\nAm Vorab
 end frühestens ab 19.00 Uhr und bis spätestens 07.00 Uhr des Abfuhrtages
 . \nAn allgemeinen Feiertagen findet keine Abfall-Entsorgungs-Tour statt.
  Die Ersatztouren werden zusätzlich im fricktal.info publiziert.
URL:https://m.abfall-gaf.ch/index.php?apid=2075907219
DTSTART;TZID=Europe/Zurich:20260820T070000
DTEND;TZID=Europe/Zurich:20260820T073000
END:VEVENT
BEGIN:VEVENT
UID:69e5f3aa75e25
DTSTAMP:20260420T093642Z
SUMMARY:Kehrichtsammlung
DESCRIPTION: Bereitstellung Hauskehricht\, Sperrgut und Container\nAm Vorab
 end frühestens ab 19.00 Uhr und bis spätestens 07.00 Uhr des Abfuhrtages
 . \nAn allgemeinen Feiertagen findet keine Abfall-Entsorgungs-Tour statt.
  Die Ersatztouren werden zusätzlich im fricktal.info publiziert.
URL:https://m.abfall-gaf.ch/index.php?apid=2075907219
DTSTART;TZID=Europe/Zurich:20260827T070000
DTEND;TZID=Europe/Zurich:20260827T073000
END:VEVENT
BEGIN:VEVENT
UID:69e5f3aa75e2e
DTSTAMP:20260420T093642Z
SUMMARY:Kehrichtsammlung
DESCRIPTION: Bereitstellung Hauskehricht\, Sperrgut und Container\nAm Vorab
 end frühestens ab 19.00 Uhr und bis spätestens 07.00 Uhr des Abfuhrtages
 . \nAn allgemeinen Feiertagen findet keine Abfall-Entsorgungs-Tour statt.
  Die Ersatztouren werden zusätzlich im fricktal.info publiziert.
URL:https://m.abfall-gaf.ch/index.php?apid=2075907219
DTSTART;TZID=Europe/Zurich:20260903T070000
DTEND;TZID=Europe/Zurich:20260903T073000
END:VEVENT
BEGIN:VEVENT
UID:69e5f3aa75e38
DTSTAMP:20260420T093642Z
SUMMARY:Kehrichtsammlung
DESCRIPTION: Bereitstellung Hauskehricht\, Sperrgut und Container\nAm Vorab
 end frühestens ab 19.00 Uhr und bis spätestens 07.00 Uhr des Abfuhrtages
 . \nAn allgemeinen Feiertagen findet keine Abfall-Entsorgungs-Tour statt.
  Die Ersatztouren werden zusätzlich im fricktal.info publiziert.
URL:https://m.abfall-gaf.ch/index.php?apid=2075907219
DTSTART;TZID=Europe/Zurich:20260910T070000
DTEND;TZID=Europe/Zurich:20260910T073000
END:VEVENT
BEGIN:VEVENT
UID:69e5f3aa75e41
DTSTAMP:20260420T093642Z
SUMMARY:Kehrichtsammlung
DESCRIPTION: Bereitstellung Hauskehricht\, Sperrgut und Container\nAm Vorab
 end frühestens ab 19.00 Uhr und bis spätestens 07.00 Uhr des Abfuhrtages
 . \nAn allgemeinen Feiertagen findet keine Abfall-Entsorgungs-Tour statt.
  Die Ersatztouren werden zusätzlich im fricktal.info publiziert.
URL:https://m.abfall-gaf.ch/index.php?apid=2075907219
DTSTART;TZID=Europe/Zurich:20260917T070000
DTEND;TZID=Europe/Zurich:20260917T073000
END:VEVENT
BEGIN:VEVENT
UID:69e5f3aa75e4b
DTSTAMP:20260420T093642Z
SUMMARY:Kehrichtsammlung
DESCRIPTION: Bereitstellung Hauskehricht\, Sperrgut und Container\nAm Vorab
 end frühestens ab 19.00 Uhr und bis spätestens 07.00 Uhr des Abfuhrtages
 . \nAn allgemeinen Feiertagen findet keine Abfall-Entsorgungs-Tour statt.
  Die Ersatztouren werden zusätzlich im fricktal.info publiziert.
URL:https://m.abfall-gaf.ch/index.php?apid=2075907219
DTSTART;TZID=Europe/Zurich:20260924T070000
DTEND;TZID=Europe/Zurich:20260924T073000
END:VEVENT
BEGIN:VEVENT
UID:69e5f3aa75e55
DTSTAMP:20260420T093642Z
SUMMARY:Kehrichtsammlung
DESCRIPTION: Bereitstellung Hauskehricht\, Sperrgut und Container\nAm Vorab
 end frühestens ab 19.00 Uhr und bis spätestens 07.00 Uhr des Abfuhrtages
 . \nAn allgemeinen Feiertagen findet keine Abfall-Entsorgungs-Tour statt.
  Die Ersatztouren werden zusätzlich im fricktal.info publiziert.
URL:https://m.abfall-gaf.ch/index.php?apid=2075907219
DTSTART;TZID=Europe/Zurich:20261001T070000
DTEND;TZID=Europe/Zurich:20261001T073000
END:VEVENT
BEGIN:VEVENT
UID:69e5f3aa75e60
DTSTAMP:20260420T093642Z
SUMMARY:Kehrichtsammlung
DESCRIPTION: Bereitstellung Hauskehricht\, Sperrgut und Container\nAm Vorab
 end frühestens ab 19.00 Uhr und bis spätestens 07.00 Uhr des Abfuhrtages
 . \nAn allgemeinen Feiertagen findet keine Abfall-Entsorgungs-Tour statt.
  Die Ersatztouren werden zusätzlich im fricktal.info publiziert.
URL:https://m.abfall-gaf.ch/index.php?apid=2075907219
DTSTART;TZID=Europe/Zurich:20261008T070000
DTEND;TZID=Europe/Zurich:20261008T073000
END:VEVENT
BEGIN:VEVENT
UID:69e5f3aa75e6a
DTSTAMP:20260420T093642Z
SUMMARY:Kehrichtsammlung
DESCRIPTION: Bereitstellung Hauskehricht\, Sperrgut und Container\nAm Vorab
 end frühestens ab 19.00 Uhr und bis spätestens 07.00 Uhr des Abfuhrtages
 . \nAn allgemeinen Feiertagen findet keine Abfall-Entsorgungs-Tour statt.
  Die Ersatztouren werden zusätzlich im fricktal.info publiziert.
URL:https://m.abfall-gaf.ch/index.php?apid=2075907219
DTSTART;TZID=Europe/Zurich:20261015T070000
DTEND;TZID=Europe/Zurich:20261015T073000
END:VEVENT
BEGIN:VEVENT
UID:69e5f3aa75e74
DTSTAMP:20260420T093642Z
SUMMARY:Kehrichtsammlung
DESCRIPTION: Bereitstellung Hauskehricht\, Sperrgut und Container\nAm Vorab
 end frühestens ab 19.00 Uhr und bis spätestens 07.00 Uhr des Abfuhrtages
 . \nAn allgemeinen Feiertagen findet keine Abfall-Entsorgungs-Tour statt.
  Die Ersatztouren werden zusätzlich im fricktal.info publiziert.
URL:https://m.abfall-gaf.ch/index.php?apid=2075907219
DTSTART;TZID=Europe/Zurich:20261022T070000
DTEND;TZID=Europe/Zurich:20261022T073000
END:VEVENT
BEGIN:VEVENT
UID:69e5f3aa75e7d
DTSTAMP:20260420T093642Z
SUMMARY:Kehrichtsammlung
DESCRIPTION: Bereitstellung Hauskehricht\, Sperrgut und Container\nAm Vorab
 end frühestens ab 19.00 Uhr und bis spätestens 07.00 Uhr des Abfuhrtages
 . \nAn allgemeinen Feiertagen findet keine Abfall-Entsorgungs-Tour statt.
  Die Ersatztouren werden zusätzlich im fricktal.info publiziert.
URL:https://m.abfall-gaf.ch/index.php?apid=2075907219
DTSTART;TZID=Europe/Zurich:20261029T070000
DTEND;TZID=Europe/Zurich:20261029T073000
END:VEVENT
BEGIN:VEVENT
UID:69e5f3aa75e87
DTSTAMP:20260420T093642Z
SUMMARY:Kehrichtsammlung
DESCRIPTION: Bereitstellung Hauskehricht\, Sperrgut und Container\nAm Vorab
 end frühestens ab 19.00 Uhr und bis spätestens 07.00 Uhr des Abfuhrtages
 . \nAn allgemeinen Feiertagen findet keine Abfall-Entsorgungs-Tour statt.
  Die Ersatztouren werden zusätzlich im fricktal.info publiziert.
URL:https://m.abfall-gaf.ch/index.php?apid=2075907219
DTSTART;TZID=Europe/Zurich:20261105T070000
DTEND;TZID=Europe/Zurich:20261105T073000
END:VEVENT
BEGIN:VEVENT
UID:69e5f3aa75e91
DTSTAMP:20260420T093642Z
SUMMARY:Kehrichtsammlung
DESCRIPTION: Bereitstellung Hauskehricht\, Sperrgut und Container\nAm Vorab
 end frühestens ab 19.00 Uhr und bis spätestens 07.00 Uhr des Abfuhrtages
 . \nAn allgemeinen Feiertagen findet keine Abfall-Entsorgungs-Tour statt.
  Die Ersatztouren werden zusätzlich im fricktal.info publiziert.
URL:https://m.abfall-gaf.ch/index.php?apid=2075907219
DTSTART;TZID=Europe/Zurich:20261112T070000
DTEND;TZID=Europe/Zurich:20261112T073000
END:VEVENT
BEGIN:VEVENT
UID:69e5f3aa75e9b
DTSTAMP:20260420T093642Z
SUMMARY:Kehrichtsammlung
DESCRIPTION: Bereitstellung Hauskehricht\, Sperrgut und Container\nAm Vorab
 end frühestens ab 19.00 Uhr und bis spätestens 07.00 Uhr des Abfuhrtages
 . \nAn allgemeinen Feiertagen findet keine Abfall-Entsorgungs-Tour statt.
  Die Ersatztouren werden zusätzlich im fricktal.info publiziert.
URL:https://m.abfall-gaf.ch/index.php?apid=2075907219
DTSTART;TZID=Europe/Zurich:20261119T070000
DTEND;TZID=Europe/Zurich:20261119T073000
END:VEVENT
BEGIN:VEVENT
UID:69e5f3aa75ea5
DTSTAMP:20260420T093642Z
SUMMARY:Kehrichtsammlung
DESCRIPTION: Bereitstellung Hauskehricht\, Sperrgut und Container\nAm Vorab
 end frühestens ab 19.00 Uhr und bis spätestens 07.00 Uhr des Abfuhrtages
 . \nAn allgemeinen Feiertagen findet keine Abfall-Entsorgungs-Tour statt.
  Die Ersatztouren werden zusätzlich im fricktal.info publiziert.
URL:https://m.abfall-gaf.ch/index.php?apid=2075907219
DTSTART;TZID=Europe/Zurich:20261126T070000
DTEND;TZID=Europe/Zurich:20261126T073000
END:VEVENT
BEGIN:VEVENT
UID:69e5f3aa75eaf
DTSTAMP:20260420T093642Z
SUMMARY:Kehrichtsammlung
DESCRIPTION: Bereitstellung Hauskehricht\, Sperrgut und Container\nAm Vorab
 end frühestens ab 19.00 Uhr und bis spätestens 07.00 Uhr des Abfuhrtages
 . \nAn allgemeinen Feiertagen findet keine Abfall-Entsorgungs-Tour statt.
  Die Ersatztouren werden zusätzlich im fricktal.info publiziert.
URL:https://m.abfall-gaf.ch/index.php?apid=2075907219
DTSTART;TZID=Europe/Zurich:20261203T070000
DTEND;TZID=Europe/Zurich:20261203T073000
END:VEVENT
BEGIN:VEVENT
UID:69e5f3aa75ebb
DTSTAMP:20260420T093642Z
SUMMARY:Kehrichtsammlung
DESCRIPTION: Bereitstellung Hauskehricht\, Sperrgut und Container\nAm Vorab
 end frühestens ab 19.00 Uhr und bis spätestens 07.00 Uhr des Abfuhrtages
 . \nAn allgemeinen Feiertagen findet keine Abfall-Entsorgungs-Tour statt.
  Die Ersatztouren werden zusätzlich im fricktal.info publiziert.
URL:https://m.abfall-gaf.ch/index.php?apid=2075907219
DTSTART;TZID=Europe/Zurich:20261210T070000
DTEND;TZID=Europe/Zurich:20261210T073000
END:VEVENT
BEGIN:VEVENT
UID:69e5f3aa75ec5
DTSTAMP:20260420T093642Z
SUMMARY:Kehrichtsammlung
DESCRIPTION: Bereitstellung Hauskehricht\, Sperrgut und Container\nAm Vorab
 end frühestens ab 19.00 Uhr und bis spätestens 07.00 Uhr des Abfuhrtages
 . \nAn allgemeinen Feiertagen findet keine Abfall-Entsorgungs-Tour statt.
  Die Ersatztouren werden zusätzlich im fricktal.info publiziert.
URL:https://m.abfall-gaf.ch/index.php?apid=2075907219
DTSTART;TZID=Europe/Zurich:20261217T070000
DTEND;TZID=Europe/Zurich:20261217T073000
END:VEVENT
BEGIN:VEVENT
UID:69e5f3aa75ecf
DTSTAMP:20260420T093642Z
SUMMARY:Kehrichtsammlung
DESCRIPTION: Bereitstellung Hauskehricht\, Sperrgut und Container\nAm Vorab
 end frühestens ab 19.00 Uhr und bis spätestens 07.00 Uhr des Abfuhrtages
 . \nAn allgemeinen Feiertagen findet keine Abfall-Entsorgungs-Tour statt.
  Die Ersatztouren werden zusätzlich im fricktal.info publiziert.
URL:https://m.abfall-gaf.ch/index.php?apid=2075907219
DTSTART;TZID=Europe/Zurich:20261224T070000
DTEND;TZID=Europe/Zurich:20261224T073000
END:VEVENT
BEGIN:VEVENT
UID:69e5f3aa75eda
DTSTAMP:20260420T093642Z
SUMMARY:Kehrichtsammlung
DESCRIPTION: Bereitstellung Hauskehricht\, Sperrgut und Container\nAm Vorab
 end frühestens ab 19.00 Uhr und bis spätestens 07.00 Uhr des Abfuhrtages
 . \nAn allgemeinen Feiertagen findet keine Abfall-Entsorgungs-Tour statt.
  Die Ersatztouren werden zusätzlich im fricktal.info publiziert.
URL:https://m.abfall-gaf.ch/index.php?apid=2075907219
DTSTART;TZID=Europe/Zurich:20261231T070000
DTEND;TZID=Europe/Zurich:20261231T073000
END:VEVENT
END:VCALENDAR