BEGIN:VCALENDAR
VERSION:2.0
PRODID:spatie/icalendar-generator
NAME:Abfallkalender Magden
X-WR-CALNAME:Abfallkalender Magden
BEGIN:VTIMEZONE
TZID:Europe/Zurich
BEGIN:STANDARD
DTSTART:20251026T030000
TZOFFSETFROM:+0200
TZOFFSETTO:+0100
END:STANDARD
BEGIN:DAYLIGHT
DTSTART:20260329T010000
TZOFFSETFROM:+0100
TZOFFSETTO:+0200
END:DAYLIGHT
BEGIN:STANDARD
DTSTART:20261025T030000
TZOFFSETFROM:+0200
TZOFFSETTO:+0100
END:STANDARD
BEGIN:DAYLIGHT
DTSTART:20270328T010000
TZOFFSETFROM:+0100
TZOFFSETTO:+0200
END:DAYLIGHT
END:VTIMEZONE
BEGIN:VTIMEZONE
TZID:UTC
BEGIN:STANDARD
DTSTART:20250726T091513
TZOFFSETFROM:+0000
TZOFFSETTO:+0000
END:STANDARD
END:VTIMEZONE
BEGIN:VEVENT
UID:69e891a153d4d
DTSTAMP:20260422T091513Z
SUMMARY:Kartonsammlung
DESCRIPTION: Kartonsammlung (kein Papier)\nGebündelt gut sichtbar am Morge
 n des Abfuhrtages bis 07.00 Uhr bereit stellen.
URL:https://m.abfall-gaf.ch/index.php?apid=201462565
DTSTART;TZID=Europe/Zurich:20260522T070000
DTEND;TZID=Europe/Zurich:20260522T073000
END:VEVENT
BEGIN:VEVENT
UID:69e891a153dac
DTSTAMP:20260422T091513Z
SUMMARY:Kartonsammlung
DESCRIPTION: Kartonsammlung (kein Papier)\nGebündelt gut sichtbar am Morge
 n des Abfuhrtages bis 07.00 Uhr bereit stellen.
URL:https://m.abfall-gaf.ch/index.php?apid=201462565
DTSTART;TZID=Europe/Zurich:20260911T070000
DTEND;TZID=Europe/Zurich:20260911T073000
END:VEVENT
BEGIN:VEVENT
UID:69e891a153dba
DTSTAMP:20260422T091513Z
SUMMARY:Kartonsammlung
DESCRIPTION: Kartonsammlung (kein Papier)\nGebündelt gut sichtbar am Morge
 n des Abfuhrtages bis 07.00 Uhr bereit stellen.
URL:https://m.abfall-gaf.ch/index.php?apid=201462565
DTSTART;TZID=Europe/Zurich:20261106T070000
DTEND;TZID=Europe/Zurich:20261106T073000
END:VEVENT
BEGIN:VEVENT
UID:69e891a153dc5
DTSTAMP:20260422T091513Z
SUMMARY:Kartonsammlung
DESCRIPTION: Kartonsammlung (kein Papier)\nGebündelt gut sichtbar am Morge
 n des Abfuhrtages bis 07.00 Uhr bereit stellen.
URL:https://m.abfall-gaf.ch/index.php?apid=201462565
DTSTART;TZID=Europe/Zurich:20261218T070000
DTEND;TZID=Europe/Zurich:20261218T073000
END:VEVENT
END:VCALENDAR