BEGIN:VCALENDAR
VERSION:2.0
PRODID:spatie/icalendar-generator
NAME:Abfallkalender Olsberg
X-WR-CALNAME:Abfallkalender Olsberg
BEGIN:VTIMEZONE
TZID:Europe/Zurich
BEGIN:STANDARD
DTSTART:20251026T030000
TZOFFSETFROM:+0200
TZOFFSETTO:+0100
END:STANDARD
BEGIN:DAYLIGHT
DTSTART:20260329T010000
TZOFFSETFROM:+0100
TZOFFSETTO:+0200
END:DAYLIGHT
BEGIN:STANDARD
DTSTART:20261025T030000
TZOFFSETFROM:+0200
TZOFFSETTO:+0100
END:STANDARD
BEGIN:DAYLIGHT
DTSTART:20270328T010000
TZOFFSETFROM:+0100
TZOFFSETTO:+0200
END:DAYLIGHT
END:VTIMEZONE
BEGIN:VTIMEZONE
TZID:UTC
BEGIN:STANDARD
DTSTART:20250726T091719
TZOFFSETFROM:+0000
TZOFFSETTO:+0000
END:STANDARD
END:VTIMEZONE
BEGIN:VEVENT
UID:69e8921f02a9a
DTSTAMP:20260422T091719Z
SUMMARY:Entsorgungstage beim Werkhof
DESCRIPTION: Gratis-Annahme für\nHaushalt- Unterhaltungs- und Büro-Elektr
 onik\, CD's\, Disketten\, Leuchtstoffröhren\, Energiespar- und LED Lampen
  (gewöhnliche Glüh- und Spotbirnen gehören in den Kehrichtsack).
URL:https://m.abfall-gaf.ch/index.php?apid=1819804939
DTSTART;TZID=Europe/Zurich:20260605T150000
DTEND;TZID=Europe/Zurich:20260605T153000
END:VEVENT
BEGIN:VEVENT
UID:69e8921f02af0
DTSTAMP:20260422T091719Z
SUMMARY:Entsorgungstage beim Werkhof
DESCRIPTION: Gratis-Annahme für\nHaushalt- Unterhaltungs- und Büro-Elektr
 onik\, CD's\, Disketten\, Leuchtstoffröhren\, Energiespar- und LED Lampen
  (gewöhnliche Glüh- und Spotbirnen gehören in den Kehrichtsack).
URL:https://m.abfall-gaf.ch/index.php?apid=1819804939
DTSTART;TZID=Europe/Zurich:20260904T150000
DTEND;TZID=Europe/Zurich:20260904T153000
END:VEVENT
BEGIN:VEVENT
UID:69e8921f02afe
DTSTAMP:20260422T091719Z
SUMMARY:Entsorgungstage beim Werkhof
DESCRIPTION: Gratis-Annahme für\nHaushalt- Unterhaltungs- und Büro-Elektr
 onik\, CD's\, Disketten\, Leuchtstoffröhren\, Energiespar- und LED Lampen
  (gewöhnliche Glüh- und Spotbirnen gehören in den Kehrichtsack).
URL:https://m.abfall-gaf.ch/index.php?apid=1819804939
DTSTART;TZID=Europe/Zurich:20261204T150000
DTEND;TZID=Europe/Zurich:20261204T153000
END:VEVENT
END:VCALENDAR