BEGIN:VCALENDAR
VERSION:2.0
PRODID:spatie/icalendar-generator
NAME:Abfallkalender Hellikon
X-WR-CALNAME:Abfallkalender Hellikon
BEGIN:VTIMEZONE
TZID:Europe/Zurich
BEGIN:STANDARD
DTSTART:20251026T030000
TZOFFSETFROM:+0200
TZOFFSETTO:+0100
END:STANDARD
BEGIN:DAYLIGHT
DTSTART:20260329T010000
TZOFFSETFROM:+0100
TZOFFSETTO:+0200
END:DAYLIGHT
BEGIN:STANDARD
DTSTART:20261025T030000
TZOFFSETFROM:+0200
TZOFFSETTO:+0100
END:STANDARD
BEGIN:DAYLIGHT
DTSTART:20270328T010000
TZOFFSETFROM:+0100
TZOFFSETTO:+0200
END:DAYLIGHT
END:VTIMEZONE
BEGIN:VTIMEZONE
TZID:UTC
BEGIN:STANDARD
DTSTART:20250728T090109
TZOFFSETFROM:+0000
TZOFFSETTO:+0000
END:STANDARD
END:VTIMEZONE
BEGIN:VEVENT
UID:69eb3155a88ed
DTSTAMP:20260424T090109Z
SUMMARY:Kartonsammlung
DESCRIPTION: Kartonsammlung (kein Papier)\nGebündelt gut sichtbar am Morge
 n des Abfuhrtages bis 07.00 Uhr bereit stellen.
URL:https://m.abfall-gaf.ch/index.php?apid=1574496255
DTSTART;TZID=Europe/Zurich:20260512T070000
DTEND;TZID=Europe/Zurich:20260512T073000
END:VEVENT
BEGIN:VEVENT
UID:69eb3155a8946
DTSTAMP:20260424T090109Z
SUMMARY:Kartonsammlung
DESCRIPTION: Kartonsammlung (kein Papier)\nGebündelt gut sichtbar am Morge
 n des Abfuhrtages bis 07.00 Uhr bereit stellen.
URL:https://m.abfall-gaf.ch/index.php?apid=1574496255
DTSTART;TZID=Europe/Zurich:20260915T070000
DTEND;TZID=Europe/Zurich:20260915T073000
END:VEVENT
BEGIN:VEVENT
UID:69eb3155a8954
DTSTAMP:20260424T090109Z
SUMMARY:Kartonsammlung
DESCRIPTION: Kartonsammlung (kein Papier)\nGebündelt gut sichtbar am Morge
 n des Abfuhrtages bis 07.00 Uhr bereit stellen.
URL:https://m.abfall-gaf.ch/index.php?apid=1574496255
DTSTART;TZID=Europe/Zurich:20261208T070000
DTEND;TZID=Europe/Zurich:20261208T073000
END:VEVENT
END:VCALENDAR