BEGIN:VCALENDAR
VERSION:2.0
PRODID:spatie/icalendar-generator
NAME:Abfallkalender Arisdorf
X-WR-CALNAME:Abfallkalender Arisdorf
BEGIN:VTIMEZONE
TZID:Europe/Zurich
BEGIN:STANDARD
DTSTART:20251026T030000
TZOFFSETFROM:+0200
TZOFFSETTO:+0100
END:STANDARD
BEGIN:DAYLIGHT
DTSTART:20260329T010000
TZOFFSETFROM:+0100
TZOFFSETTO:+0200
END:DAYLIGHT
BEGIN:STANDARD
DTSTART:20261025T030000
TZOFFSETFROM:+0200
TZOFFSETTO:+0100
END:STANDARD
BEGIN:DAYLIGHT
DTSTART:20270328T010000
TZOFFSETFROM:+0100
TZOFFSETTO:+0200
END:DAYLIGHT
END:VTIMEZONE
BEGIN:VTIMEZONE
TZID:UTC
BEGIN:STANDARD
DTSTART:20250724T092259
TZOFFSETFROM:+0000
TZOFFSETTO:+0000
END:STANDARD
END:VTIMEZONE
BEGIN:VEVENT
UID:69e5f073b899c
DTSTAMP:20260420T092259Z
SUMMARY:Kehrichtsammlung
DESCRIPTION:Die Kehrichtsammlung in Arisdorf findet ab dem Jahr 2023\, jewe
 ils wöchentlich am Dienstag statt. Bereitstellung Hauskehricht\, Sperrgut
  und Container\nAm Vorabend frühestens ab 19.00 Uhr und bis spätestens 0
 7.00 Uhr des Abfuhrtages. \nAn allgemeinen Feiertagen findet keine Abfall
 -Entsorgungs-Tour statt. Die Ersatztouren werden zusätzlich im fricktal.i
 nfo publiziert.
URL:https://m.abfall-gaf.ch/index.php?apid=1409354019
DTSTART;TZID=Europe/Zurich:20260421T070000
DTEND;TZID=Europe/Zurich:20260421T073000
END:VEVENT
BEGIN:VEVENT
UID:69e5f073b89fc
DTSTAMP:20260420T092259Z
SUMMARY:Kehrichtsammlung
DESCRIPTION:Die Kehrichtsammlung in Arisdorf findet ab dem Jahr 2023\, jewe
 ils wöchentlich am Dienstag statt. Bereitstellung Hauskehricht\, Sperrgut
  und Container\nAm Vorabend frühestens ab 19.00 Uhr und bis spätestens 0
 7.00 Uhr des Abfuhrtages. \nAn allgemeinen Feiertagen findet keine Abfall
 -Entsorgungs-Tour statt. Die Ersatztouren werden zusätzlich im fricktal.i
 nfo publiziert.
URL:https://m.abfall-gaf.ch/index.php?apid=1409354019
DTSTART;TZID=Europe/Zurich:20260428T070000
DTEND;TZID=Europe/Zurich:20260428T073000
END:VEVENT
BEGIN:VEVENT
UID:69e5f073b8a13
DTSTAMP:20260420T092259Z
SUMMARY:Kehrichtsammlung
DESCRIPTION:Die Kehrichtsammlung in Arisdorf findet ab dem Jahr 2023\, jewe
 ils wöchentlich am Dienstag statt. Bereitstellung Hauskehricht\, Sperrgut
  und Container\nAm Vorabend frühestens ab 19.00 Uhr und bis spätestens 0
 7.00 Uhr des Abfuhrtages. \nAn allgemeinen Feiertagen findet keine Abfall
 -Entsorgungs-Tour statt. Die Ersatztouren werden zusätzlich im fricktal.i
 nfo publiziert.
URL:https://m.abfall-gaf.ch/index.php?apid=1409354019
DTSTART;TZID=Europe/Zurich:20260505T070000
DTEND;TZID=Europe/Zurich:20260505T073000
END:VEVENT
BEGIN:VEVENT
UID:69e5f073b8a1f
DTSTAMP:20260420T092259Z
SUMMARY:Kehrichtsammlung
DESCRIPTION:Die Kehrichtsammlung in Arisdorf findet ab dem Jahr 2023\, jewe
 ils wöchentlich am Dienstag statt. Bereitstellung Hauskehricht\, Sperrgut
  und Container\nAm Vorabend frühestens ab 19.00 Uhr und bis spätestens 0
 7.00 Uhr des Abfuhrtages. \nAn allgemeinen Feiertagen findet keine Abfall
 -Entsorgungs-Tour statt. Die Ersatztouren werden zusätzlich im fricktal.i
 nfo publiziert.
URL:https://m.abfall-gaf.ch/index.php?apid=1409354019
DTSTART;TZID=Europe/Zurich:20260512T070000
DTEND;TZID=Europe/Zurich:20260512T073000
END:VEVENT
BEGIN:VEVENT
UID:69e5f073b8a29
DTSTAMP:20260420T092259Z
SUMMARY:Kehrichtsammlung
DESCRIPTION:Die Kehrichtsammlung in Arisdorf findet ab dem Jahr 2023\, jewe
 ils wöchentlich am Dienstag statt. Bereitstellung Hauskehricht\, Sperrgut
  und Container\nAm Vorabend frühestens ab 19.00 Uhr und bis spätestens 0
 7.00 Uhr des Abfuhrtages. \nAn allgemeinen Feiertagen findet keine Abfall
 -Entsorgungs-Tour statt. Die Ersatztouren werden zusätzlich im fricktal.i
 nfo publiziert.
URL:https://m.abfall-gaf.ch/index.php?apid=1409354019
DTSTART;TZID=Europe/Zurich:20260519T070000
DTEND;TZID=Europe/Zurich:20260519T073000
END:VEVENT
BEGIN:VEVENT
UID:69e5f073b8a33
DTSTAMP:20260420T092259Z
SUMMARY:Kehrichtsammlung
DESCRIPTION:Die Kehrichtsammlung in Arisdorf findet ab dem Jahr 2023\, jewe
 ils wöchentlich am Dienstag statt. Bereitstellung Hauskehricht\, Sperrgut
  und Container\nAm Vorabend frühestens ab 19.00 Uhr und bis spätestens 0
 7.00 Uhr des Abfuhrtages. \nAn allgemeinen Feiertagen findet keine Abfall
 -Entsorgungs-Tour statt. Die Ersatztouren werden zusätzlich im fricktal.i
 nfo publiziert.
URL:https://m.abfall-gaf.ch/index.php?apid=1409354019
DTSTART;TZID=Europe/Zurich:20260526T070000
DTEND;TZID=Europe/Zurich:20260526T073000
END:VEVENT
BEGIN:VEVENT
UID:69e5f073b8a3d
DTSTAMP:20260420T092259Z
SUMMARY:Kehrichtsammlung
DESCRIPTION:Die Kehrichtsammlung in Arisdorf findet ab dem Jahr 2023\, jewe
 ils wöchentlich am Dienstag statt. Bereitstellung Hauskehricht\, Sperrgut
  und Container\nAm Vorabend frühestens ab 19.00 Uhr und bis spätestens 0
 7.00 Uhr des Abfuhrtages. \nAn allgemeinen Feiertagen findet keine Abfall
 -Entsorgungs-Tour statt. Die Ersatztouren werden zusätzlich im fricktal.i
 nfo publiziert.
URL:https://m.abfall-gaf.ch/index.php?apid=1409354019
DTSTART;TZID=Europe/Zurich:20260602T070000
DTEND;TZID=Europe/Zurich:20260602T073000
END:VEVENT
BEGIN:VEVENT
UID:69e5f073b8a47
DTSTAMP:20260420T092259Z
SUMMARY:Kehrichtsammlung
DESCRIPTION:Die Kehrichtsammlung in Arisdorf findet ab dem Jahr 2023\, jewe
 ils wöchentlich am Dienstag statt. Bereitstellung Hauskehricht\, Sperrgut
  und Container\nAm Vorabend frühestens ab 19.00 Uhr und bis spätestens 0
 7.00 Uhr des Abfuhrtages. \nAn allgemeinen Feiertagen findet keine Abfall
 -Entsorgungs-Tour statt. Die Ersatztouren werden zusätzlich im fricktal.i
 nfo publiziert.
URL:https://m.abfall-gaf.ch/index.php?apid=1409354019
DTSTART;TZID=Europe/Zurich:20260609T070000
DTEND;TZID=Europe/Zurich:20260609T073000
END:VEVENT
BEGIN:VEVENT
UID:69e5f073b8a51
DTSTAMP:20260420T092259Z
SUMMARY:Kehrichtsammlung
DESCRIPTION:Die Kehrichtsammlung in Arisdorf findet ab dem Jahr 2023\, jewe
 ils wöchentlich am Dienstag statt. Bereitstellung Hauskehricht\, Sperrgut
  und Container\nAm Vorabend frühestens ab 19.00 Uhr und bis spätestens 0
 7.00 Uhr des Abfuhrtages. \nAn allgemeinen Feiertagen findet keine Abfall
 -Entsorgungs-Tour statt. Die Ersatztouren werden zusätzlich im fricktal.i
 nfo publiziert.
URL:https://m.abfall-gaf.ch/index.php?apid=1409354019
DTSTART;TZID=Europe/Zurich:20260616T070000
DTEND;TZID=Europe/Zurich:20260616T073000
END:VEVENT
BEGIN:VEVENT
UID:69e5f073b8a5b
DTSTAMP:20260420T092259Z
SUMMARY:Kehrichtsammlung
DESCRIPTION:Die Kehrichtsammlung in Arisdorf findet ab dem Jahr 2023\, jewe
 ils wöchentlich am Dienstag statt. Bereitstellung Hauskehricht\, Sperrgut
  und Container\nAm Vorabend frühestens ab 19.00 Uhr und bis spätestens 0
 7.00 Uhr des Abfuhrtages. \nAn allgemeinen Feiertagen findet keine Abfall
 -Entsorgungs-Tour statt. Die Ersatztouren werden zusätzlich im fricktal.i
 nfo publiziert.
URL:https://m.abfall-gaf.ch/index.php?apid=1409354019
DTSTART;TZID=Europe/Zurich:20260623T070000
DTEND;TZID=Europe/Zurich:20260623T073000
END:VEVENT
BEGIN:VEVENT
UID:69e5f073b8a65
DTSTAMP:20260420T092259Z
SUMMARY:Kehrichtsammlung
DESCRIPTION:Die Kehrichtsammlung in Arisdorf findet ab dem Jahr 2023\, jewe
 ils wöchentlich am Dienstag statt. Bereitstellung Hauskehricht\, Sperrgut
  und Container\nAm Vorabend frühestens ab 19.00 Uhr und bis spätestens 0
 7.00 Uhr des Abfuhrtages. \nAn allgemeinen Feiertagen findet keine Abfall
 -Entsorgungs-Tour statt. Die Ersatztouren werden zusätzlich im fricktal.i
 nfo publiziert.
URL:https://m.abfall-gaf.ch/index.php?apid=1409354019
DTSTART;TZID=Europe/Zurich:20260630T070000
DTEND;TZID=Europe/Zurich:20260630T073000
END:VEVENT
BEGIN:VEVENT
UID:69e5f073b8a6e
DTSTAMP:20260420T092259Z
SUMMARY:Kehrichtsammlung
DESCRIPTION:Die Kehrichtsammlung in Arisdorf findet ab dem Jahr 2023\, jewe
 ils wöchentlich am Dienstag statt. Bereitstellung Hauskehricht\, Sperrgut
  und Container\nAm Vorabend frühestens ab 19.00 Uhr und bis spätestens 0
 7.00 Uhr des Abfuhrtages. \nAn allgemeinen Feiertagen findet keine Abfall
 -Entsorgungs-Tour statt. Die Ersatztouren werden zusätzlich im fricktal.i
 nfo publiziert.
URL:https://m.abfall-gaf.ch/index.php?apid=1409354019
DTSTART;TZID=Europe/Zurich:20260707T070000
DTEND;TZID=Europe/Zurich:20260707T073000
END:VEVENT
BEGIN:VEVENT
UID:69e5f073b8a79
DTSTAMP:20260420T092259Z
SUMMARY:Kehrichtsammlung
DESCRIPTION:Die Kehrichtsammlung in Arisdorf findet ab dem Jahr 2023\, jewe
 ils wöchentlich am Dienstag statt. Bereitstellung Hauskehricht\, Sperrgut
  und Container\nAm Vorabend frühestens ab 19.00 Uhr und bis spätestens 0
 7.00 Uhr des Abfuhrtages. \nAn allgemeinen Feiertagen findet keine Abfall
 -Entsorgungs-Tour statt. Die Ersatztouren werden zusätzlich im fricktal.i
 nfo publiziert.
URL:https://m.abfall-gaf.ch/index.php?apid=1409354019
DTSTART;TZID=Europe/Zurich:20260714T070000
DTEND;TZID=Europe/Zurich:20260714T073000
END:VEVENT
BEGIN:VEVENT
UID:69e5f073b8a82
DTSTAMP:20260420T092259Z
SUMMARY:Kehrichtsammlung
DESCRIPTION:Die Kehrichtsammlung in Arisdorf findet ab dem Jahr 2023\, jewe
 ils wöchentlich am Dienstag statt. Bereitstellung Hauskehricht\, Sperrgut
  und Container\nAm Vorabend frühestens ab 19.00 Uhr und bis spätestens 0
 7.00 Uhr des Abfuhrtages. \nAn allgemeinen Feiertagen findet keine Abfall
 -Entsorgungs-Tour statt. Die Ersatztouren werden zusätzlich im fricktal.i
 nfo publiziert.
URL:https://m.abfall-gaf.ch/index.php?apid=1409354019
DTSTART;TZID=Europe/Zurich:20260721T070000
DTEND;TZID=Europe/Zurich:20260721T073000
END:VEVENT
BEGIN:VEVENT
UID:69e5f073b8a8c
DTSTAMP:20260420T092259Z
SUMMARY:Kehrichtsammlung
DESCRIPTION:Die Kehrichtsammlung in Arisdorf findet ab dem Jahr 2023\, jewe
 ils wöchentlich am Dienstag statt. Bereitstellung Hauskehricht\, Sperrgut
  und Container\nAm Vorabend frühestens ab 19.00 Uhr und bis spätestens 0
 7.00 Uhr des Abfuhrtages. \nAn allgemeinen Feiertagen findet keine Abfall
 -Entsorgungs-Tour statt. Die Ersatztouren werden zusätzlich im fricktal.i
 nfo publiziert.
URL:https://m.abfall-gaf.ch/index.php?apid=1409354019
DTSTART;TZID=Europe/Zurich:20260728T070000
DTEND;TZID=Europe/Zurich:20260728T073000
END:VEVENT
BEGIN:VEVENT
UID:69e5f073b8a96
DTSTAMP:20260420T092259Z
SUMMARY:Kehrichtsammlung
DESCRIPTION:Die Kehrichtsammlung in Arisdorf findet ab dem Jahr 2023\, jewe
 ils wöchentlich am Dienstag statt. Bereitstellung Hauskehricht\, Sperrgut
  und Container\nAm Vorabend frühestens ab 19.00 Uhr und bis spätestens 0
 7.00 Uhr des Abfuhrtages. \nAn allgemeinen Feiertagen findet keine Abfall
 -Entsorgungs-Tour statt. Die Ersatztouren werden zusätzlich im fricktal.i
 nfo publiziert.
URL:https://m.abfall-gaf.ch/index.php?apid=1409354019
DTSTART;TZID=Europe/Zurich:20260804T070000
DTEND;TZID=Europe/Zurich:20260804T073000
END:VEVENT
BEGIN:VEVENT
UID:69e5f073b8aa0
DTSTAMP:20260420T092259Z
SUMMARY:Kehrichtsammlung
DESCRIPTION:Die Kehrichtsammlung in Arisdorf findet ab dem Jahr 2023\, jewe
 ils wöchentlich am Dienstag statt. Bereitstellung Hauskehricht\, Sperrgut
  und Container\nAm Vorabend frühestens ab 19.00 Uhr und bis spätestens 0
 7.00 Uhr des Abfuhrtages. \nAn allgemeinen Feiertagen findet keine Abfall
 -Entsorgungs-Tour statt. Die Ersatztouren werden zusätzlich im fricktal.i
 nfo publiziert.
URL:https://m.abfall-gaf.ch/index.php?apid=1409354019
DTSTART;TZID=Europe/Zurich:20260811T070000
DTEND;TZID=Europe/Zurich:20260811T073000
END:VEVENT
BEGIN:VEVENT
UID:69e5f073b8aaa
DTSTAMP:20260420T092259Z
SUMMARY:Kehrichtsammlung
DESCRIPTION:Die Kehrichtsammlung in Arisdorf findet ab dem Jahr 2023\, jewe
 ils wöchentlich am Dienstag statt. Bereitstellung Hauskehricht\, Sperrgut
  und Container\nAm Vorabend frühestens ab 19.00 Uhr und bis spätestens 0
 7.00 Uhr des Abfuhrtages. \nAn allgemeinen Feiertagen findet keine Abfall
 -Entsorgungs-Tour statt. Die Ersatztouren werden zusätzlich im fricktal.i
 nfo publiziert.
URL:https://m.abfall-gaf.ch/index.php?apid=1409354019
DTSTART;TZID=Europe/Zurich:20260818T070000
DTEND;TZID=Europe/Zurich:20260818T073000
END:VEVENT
BEGIN:VEVENT
UID:69e5f073b8ab4
DTSTAMP:20260420T092259Z
SUMMARY:Kehrichtsammlung
DESCRIPTION:Die Kehrichtsammlung in Arisdorf findet ab dem Jahr 2023\, jewe
 ils wöchentlich am Dienstag statt. Bereitstellung Hauskehricht\, Sperrgut
  und Container\nAm Vorabend frühestens ab 19.00 Uhr und bis spätestens 0
 7.00 Uhr des Abfuhrtages. \nAn allgemeinen Feiertagen findet keine Abfall
 -Entsorgungs-Tour statt. Die Ersatztouren werden zusätzlich im fricktal.i
 nfo publiziert.
URL:https://m.abfall-gaf.ch/index.php?apid=1409354019
DTSTART;TZID=Europe/Zurich:20260825T070000
DTEND;TZID=Europe/Zurich:20260825T073000
END:VEVENT
BEGIN:VEVENT
UID:69e5f073b8abd
DTSTAMP:20260420T092259Z
SUMMARY:Kehrichtsammlung
DESCRIPTION:Die Kehrichtsammlung in Arisdorf findet ab dem Jahr 2023\, jewe
 ils wöchentlich am Dienstag statt. Bereitstellung Hauskehricht\, Sperrgut
  und Container\nAm Vorabend frühestens ab 19.00 Uhr und bis spätestens 0
 7.00 Uhr des Abfuhrtages. \nAn allgemeinen Feiertagen findet keine Abfall
 -Entsorgungs-Tour statt. Die Ersatztouren werden zusätzlich im fricktal.i
 nfo publiziert.
URL:https://m.abfall-gaf.ch/index.php?apid=1409354019
DTSTART;TZID=Europe/Zurich:20260901T070000
DTEND;TZID=Europe/Zurich:20260901T073000
END:VEVENT
BEGIN:VEVENT
UID:69e5f073b8ac7
DTSTAMP:20260420T092259Z
SUMMARY:Kehrichtsammlung
DESCRIPTION:Die Kehrichtsammlung in Arisdorf findet ab dem Jahr 2023\, jewe
 ils wöchentlich am Dienstag statt. Bereitstellung Hauskehricht\, Sperrgut
  und Container\nAm Vorabend frühestens ab 19.00 Uhr und bis spätestens 0
 7.00 Uhr des Abfuhrtages. \nAn allgemeinen Feiertagen findet keine Abfall
 -Entsorgungs-Tour statt. Die Ersatztouren werden zusätzlich im fricktal.i
 nfo publiziert.
URL:https://m.abfall-gaf.ch/index.php?apid=1409354019
DTSTART;TZID=Europe/Zurich:20260908T070000
DTEND;TZID=Europe/Zurich:20260908T073000
END:VEVENT
BEGIN:VEVENT
UID:69e5f073b8ad1
DTSTAMP:20260420T092259Z
SUMMARY:Kehrichtsammlung
DESCRIPTION:Die Kehrichtsammlung in Arisdorf findet ab dem Jahr 2023\, jewe
 ils wöchentlich am Dienstag statt. Bereitstellung Hauskehricht\, Sperrgut
  und Container\nAm Vorabend frühestens ab 19.00 Uhr und bis spätestens 0
 7.00 Uhr des Abfuhrtages. \nAn allgemeinen Feiertagen findet keine Abfall
 -Entsorgungs-Tour statt. Die Ersatztouren werden zusätzlich im fricktal.i
 nfo publiziert.
URL:https://m.abfall-gaf.ch/index.php?apid=1409354019
DTSTART;TZID=Europe/Zurich:20260915T070000
DTEND;TZID=Europe/Zurich:20260915T073000
END:VEVENT
BEGIN:VEVENT
UID:69e5f073b8ada
DTSTAMP:20260420T092259Z
SUMMARY:Kehrichtsammlung
DESCRIPTION:Die Kehrichtsammlung in Arisdorf findet ab dem Jahr 2023\, jewe
 ils wöchentlich am Dienstag statt. Bereitstellung Hauskehricht\, Sperrgut
  und Container\nAm Vorabend frühestens ab 19.00 Uhr und bis spätestens 0
 7.00 Uhr des Abfuhrtages. \nAn allgemeinen Feiertagen findet keine Abfall
 -Entsorgungs-Tour statt. Die Ersatztouren werden zusätzlich im fricktal.i
 nfo publiziert.
URL:https://m.abfall-gaf.ch/index.php?apid=1409354019
DTSTART;TZID=Europe/Zurich:20260922T070000
DTEND;TZID=Europe/Zurich:20260922T073000
END:VEVENT
BEGIN:VEVENT
UID:69e5f073b8ae4
DTSTAMP:20260420T092259Z
SUMMARY:Kehrichtsammlung
DESCRIPTION:Die Kehrichtsammlung in Arisdorf findet ab dem Jahr 2023\, jewe
 ils wöchentlich am Dienstag statt. Bereitstellung Hauskehricht\, Sperrgut
  und Container\nAm Vorabend frühestens ab 19.00 Uhr und bis spätestens 0
 7.00 Uhr des Abfuhrtages. \nAn allgemeinen Feiertagen findet keine Abfall
 -Entsorgungs-Tour statt. Die Ersatztouren werden zusätzlich im fricktal.i
 nfo publiziert.
URL:https://m.abfall-gaf.ch/index.php?apid=1409354019
DTSTART;TZID=Europe/Zurich:20260929T070000
DTEND;TZID=Europe/Zurich:20260929T073000
END:VEVENT
BEGIN:VEVENT
UID:69e5f073b8aef
DTSTAMP:20260420T092259Z
SUMMARY:Kehrichtsammlung
DESCRIPTION:Die Kehrichtsammlung in Arisdorf findet ab dem Jahr 2023\, jewe
 ils wöchentlich am Dienstag statt. Bereitstellung Hauskehricht\, Sperrgut
  und Container\nAm Vorabend frühestens ab 19.00 Uhr und bis spätestens 0
 7.00 Uhr des Abfuhrtages. \nAn allgemeinen Feiertagen findet keine Abfall
 -Entsorgungs-Tour statt. Die Ersatztouren werden zusätzlich im fricktal.i
 nfo publiziert.
URL:https://m.abfall-gaf.ch/index.php?apid=1409354019
DTSTART;TZID=Europe/Zurich:20261006T070000
DTEND;TZID=Europe/Zurich:20261006T073000
END:VEVENT
BEGIN:VEVENT
UID:69e5f073b8afa
DTSTAMP:20260420T092259Z
SUMMARY:Kehrichtsammlung
DESCRIPTION:Die Kehrichtsammlung in Arisdorf findet ab dem Jahr 2023\, jewe
 ils wöchentlich am Dienstag statt. Bereitstellung Hauskehricht\, Sperrgut
  und Container\nAm Vorabend frühestens ab 19.00 Uhr und bis spätestens 0
 7.00 Uhr des Abfuhrtages. \nAn allgemeinen Feiertagen findet keine Abfall
 -Entsorgungs-Tour statt. Die Ersatztouren werden zusätzlich im fricktal.i
 nfo publiziert.
URL:https://m.abfall-gaf.ch/index.php?apid=1409354019
DTSTART;TZID=Europe/Zurich:20261013T070000
DTEND;TZID=Europe/Zurich:20261013T073000
END:VEVENT
BEGIN:VEVENT
UID:69e5f073b8b03
DTSTAMP:20260420T092259Z
SUMMARY:Kehrichtsammlung
DESCRIPTION:Die Kehrichtsammlung in Arisdorf findet ab dem Jahr 2023\, jewe
 ils wöchentlich am Dienstag statt. Bereitstellung Hauskehricht\, Sperrgut
  und Container\nAm Vorabend frühestens ab 19.00 Uhr und bis spätestens 0
 7.00 Uhr des Abfuhrtages. \nAn allgemeinen Feiertagen findet keine Abfall
 -Entsorgungs-Tour statt. Die Ersatztouren werden zusätzlich im fricktal.i
 nfo publiziert.
URL:https://m.abfall-gaf.ch/index.php?apid=1409354019
DTSTART;TZID=Europe/Zurich:20261020T070000
DTEND;TZID=Europe/Zurich:20261020T073000
END:VEVENT
BEGIN:VEVENT
UID:69e5f073b8b0d
DTSTAMP:20260420T092259Z
SUMMARY:Kehrichtsammlung
DESCRIPTION:Die Kehrichtsammlung in Arisdorf findet ab dem Jahr 2023\, jewe
 ils wöchentlich am Dienstag statt. Bereitstellung Hauskehricht\, Sperrgut
  und Container\nAm Vorabend frühestens ab 19.00 Uhr und bis spätestens 0
 7.00 Uhr des Abfuhrtages. \nAn allgemeinen Feiertagen findet keine Abfall
 -Entsorgungs-Tour statt. Die Ersatztouren werden zusätzlich im fricktal.i
 nfo publiziert.
URL:https://m.abfall-gaf.ch/index.php?apid=1409354019
DTSTART;TZID=Europe/Zurich:20261027T070000
DTEND;TZID=Europe/Zurich:20261027T073000
END:VEVENT
BEGIN:VEVENT
UID:69e5f073b8b17
DTSTAMP:20260420T092259Z
SUMMARY:Kehrichtsammlung
DESCRIPTION:Die Kehrichtsammlung in Arisdorf findet ab dem Jahr 2023\, jewe
 ils wöchentlich am Dienstag statt. Bereitstellung Hauskehricht\, Sperrgut
  und Container\nAm Vorabend frühestens ab 19.00 Uhr und bis spätestens 0
 7.00 Uhr des Abfuhrtages. \nAn allgemeinen Feiertagen findet keine Abfall
 -Entsorgungs-Tour statt. Die Ersatztouren werden zusätzlich im fricktal.i
 nfo publiziert.
URL:https://m.abfall-gaf.ch/index.php?apid=1409354019
DTSTART;TZID=Europe/Zurich:20261103T070000
DTEND;TZID=Europe/Zurich:20261103T073000
END:VEVENT
BEGIN:VEVENT
UID:69e5f073b8b22
DTSTAMP:20260420T092259Z
SUMMARY:Kehrichtsammlung
DESCRIPTION:Die Kehrichtsammlung in Arisdorf findet ab dem Jahr 2023\, jewe
 ils wöchentlich am Dienstag statt. Bereitstellung Hauskehricht\, Sperrgut
  und Container\nAm Vorabend frühestens ab 19.00 Uhr und bis spätestens 0
 7.00 Uhr des Abfuhrtages. \nAn allgemeinen Feiertagen findet keine Abfall
 -Entsorgungs-Tour statt. Die Ersatztouren werden zusätzlich im fricktal.i
 nfo publiziert.
URL:https://m.abfall-gaf.ch/index.php?apid=1409354019
DTSTART;TZID=Europe/Zurich:20261110T070000
DTEND;TZID=Europe/Zurich:20261110T073000
END:VEVENT
BEGIN:VEVENT
UID:69e5f073b8b2c
DTSTAMP:20260420T092259Z
SUMMARY:Kehrichtsammlung
DESCRIPTION:Die Kehrichtsammlung in Arisdorf findet ab dem Jahr 2023\, jewe
 ils wöchentlich am Dienstag statt. Bereitstellung Hauskehricht\, Sperrgut
  und Container\nAm Vorabend frühestens ab 19.00 Uhr und bis spätestens 0
 7.00 Uhr des Abfuhrtages. \nAn allgemeinen Feiertagen findet keine Abfall
 -Entsorgungs-Tour statt. Die Ersatztouren werden zusätzlich im fricktal.i
 nfo publiziert.
URL:https://m.abfall-gaf.ch/index.php?apid=1409354019
DTSTART;TZID=Europe/Zurich:20261117T070000
DTEND;TZID=Europe/Zurich:20261117T073000
END:VEVENT
BEGIN:VEVENT
UID:69e5f073b8b36
DTSTAMP:20260420T092259Z
SUMMARY:Kehrichtsammlung
DESCRIPTION:Die Kehrichtsammlung in Arisdorf findet ab dem Jahr 2023\, jewe
 ils wöchentlich am Dienstag statt. Bereitstellung Hauskehricht\, Sperrgut
  und Container\nAm Vorabend frühestens ab 19.00 Uhr und bis spätestens 0
 7.00 Uhr des Abfuhrtages. \nAn allgemeinen Feiertagen findet keine Abfall
 -Entsorgungs-Tour statt. Die Ersatztouren werden zusätzlich im fricktal.i
 nfo publiziert.
URL:https://m.abfall-gaf.ch/index.php?apid=1409354019
DTSTART;TZID=Europe/Zurich:20261124T070000
DTEND;TZID=Europe/Zurich:20261124T073000
END:VEVENT
BEGIN:VEVENT
UID:69e5f073b8b40
DTSTAMP:20260420T092259Z
SUMMARY:Kehrichtsammlung
DESCRIPTION:Die Kehrichtsammlung in Arisdorf findet ab dem Jahr 2023\, jewe
 ils wöchentlich am Dienstag statt. Bereitstellung Hauskehricht\, Sperrgut
  und Container\nAm Vorabend frühestens ab 19.00 Uhr und bis spätestens 0
 7.00 Uhr des Abfuhrtages. \nAn allgemeinen Feiertagen findet keine Abfall
 -Entsorgungs-Tour statt. Die Ersatztouren werden zusätzlich im fricktal.i
 nfo publiziert.
URL:https://m.abfall-gaf.ch/index.php?apid=1409354019
DTSTART;TZID=Europe/Zurich:20261201T070000
DTEND;TZID=Europe/Zurich:20261201T073000
END:VEVENT
BEGIN:VEVENT
UID:69e5f073b8b4a
DTSTAMP:20260420T092259Z
SUMMARY:Kehrichtsammlung
DESCRIPTION:Die Kehrichtsammlung in Arisdorf findet ab dem Jahr 2023\, jewe
 ils wöchentlich am Dienstag statt. Bereitstellung Hauskehricht\, Sperrgut
  und Container\nAm Vorabend frühestens ab 19.00 Uhr und bis spätestens 0
 7.00 Uhr des Abfuhrtages. \nAn allgemeinen Feiertagen findet keine Abfall
 -Entsorgungs-Tour statt. Die Ersatztouren werden zusätzlich im fricktal.i
 nfo publiziert.
URL:https://m.abfall-gaf.ch/index.php?apid=1409354019
DTSTART;TZID=Europe/Zurich:20261208T070000
DTEND;TZID=Europe/Zurich:20261208T073000
END:VEVENT
BEGIN:VEVENT
UID:69e5f073b8b54
DTSTAMP:20260420T092259Z
SUMMARY:Kehrichtsammlung
DESCRIPTION:Die Kehrichtsammlung in Arisdorf findet ab dem Jahr 2023\, jewe
 ils wöchentlich am Dienstag statt. Bereitstellung Hauskehricht\, Sperrgut
  und Container\nAm Vorabend frühestens ab 19.00 Uhr und bis spätestens 0
 7.00 Uhr des Abfuhrtages. \nAn allgemeinen Feiertagen findet keine Abfall
 -Entsorgungs-Tour statt. Die Ersatztouren werden zusätzlich im fricktal.i
 nfo publiziert.
URL:https://m.abfall-gaf.ch/index.php?apid=1409354019
DTSTART;TZID=Europe/Zurich:20261215T070000
DTEND;TZID=Europe/Zurich:20261215T073000
END:VEVENT
BEGIN:VEVENT
UID:69e5f073b8b5e
DTSTAMP:20260420T092259Z
SUMMARY:Kehrichtsammlung
DESCRIPTION:Die Kehrichtsammlung in Arisdorf findet ab dem Jahr 2023\, jewe
 ils wöchentlich am Dienstag statt. Bereitstellung Hauskehricht\, Sperrgut
  und Container\nAm Vorabend frühestens ab 19.00 Uhr und bis spätestens 0
 7.00 Uhr des Abfuhrtages. \nAn allgemeinen Feiertagen findet keine Abfall
 -Entsorgungs-Tour statt. Die Ersatztouren werden zusätzlich im fricktal.i
 nfo publiziert.
URL:https://m.abfall-gaf.ch/index.php?apid=1409354019
DTSTART;TZID=Europe/Zurich:20261222T070000
DTEND;TZID=Europe/Zurich:20261222T073000
END:VEVENT
BEGIN:VEVENT
UID:69e5f073b8b69
DTSTAMP:20260420T092259Z
SUMMARY:Kehrichtsammlung
DESCRIPTION:Die Kehrichtsammlung in Arisdorf findet ab dem Jahr 2023\, jewe
 ils wöchentlich am Dienstag statt. Bereitstellung Hauskehricht\, Sperrgut
  und Container\nAm Vorabend frühestens ab 19.00 Uhr und bis spätestens 0
 7.00 Uhr des Abfuhrtages. \nAn allgemeinen Feiertagen findet keine Abfall
 -Entsorgungs-Tour statt. Die Ersatztouren werden zusätzlich im fricktal.i
 nfo publiziert.
URL:https://m.abfall-gaf.ch/index.php?apid=1409354019
DTSTART;TZID=Europe/Zurich:20261229T070000
DTEND;TZID=Europe/Zurich:20261229T073000
END:VEVENT
END:VCALENDAR