BEGIN:VCALENDAR
VERSION:2.0
PRODID:spatie/icalendar-generator
NAME:Abfallkalender Kaiseraugst
X-WR-CALNAME:Abfallkalender Kaiseraugst
BEGIN:VTIMEZONE
TZID:Europe/Zurich
BEGIN:STANDARD
DTSTART:20251026T030000
TZOFFSETFROM:+0200
TZOFFSETTO:+0100
END:STANDARD
BEGIN:DAYLIGHT
DTSTART:20260329T010000
TZOFFSETFROM:+0100
TZOFFSETTO:+0200
END:DAYLIGHT
BEGIN:STANDARD
DTSTART:20261025T030000
TZOFFSETFROM:+0200
TZOFFSETTO:+0100
END:STANDARD
BEGIN:DAYLIGHT
DTSTART:20270328T010000
TZOFFSETFROM:+0100
TZOFFSETTO:+0200
END:DAYLIGHT
END:VTIMEZONE
BEGIN:VTIMEZONE
TZID:UTC
BEGIN:STANDARD
DTSTART:20250726T091658
TZOFFSETFROM:+0000
TZOFFSETTO:+0000
END:STANDARD
END:VTIMEZONE
BEGIN:VEVENT
UID:69e8920af0df8
DTSTAMP:20260422T091658Z
SUMMARY:Kunststoffsammlung (inkl. Liebrüti)
DESCRIPTION: Kunststoff in Gebührensäcken\n35 Liter-Säcke: Rolle à 10 
 Stück: CHF 14.00\n60 Liter-Säcke: Rolle à 10 Stück: CHF 28.00\nFrüh
 estens am Vorabend\, spätestens bis\n07.00 Uhr des Abfuhrtages bereitste
 llen.\nWird 14täglich gesammelt. Verkaufsstellen\ngemäss Angaben auf u
 nserer Website.
URL:https://m.abfall-gaf.ch/index.php?apid=1057019426
DTSTART;TZID=Europe/Zurich:20260505T070000
DTEND;TZID=Europe/Zurich:20260505T073000
END:VEVENT
BEGIN:VEVENT
UID:69e8920af0e5c
DTSTAMP:20260422T091658Z
SUMMARY:Kunststoffsammlung (inkl. Liebrüti)
DESCRIPTION: Kunststoff in Gebührensäcken\n35 Liter-Säcke: Rolle à 10 
 Stück: CHF 14.00\n60 Liter-Säcke: Rolle à 10 Stück: CHF 28.00\nFrüh
 estens am Vorabend\, spätestens bis\n07.00 Uhr des Abfuhrtages bereitste
 llen.\nWird 14täglich gesammelt. Verkaufsstellen\ngemäss Angaben auf u
 nserer Website.
URL:https://m.abfall-gaf.ch/index.php?apid=1057019426
DTSTART;TZID=Europe/Zurich:20260519T070000
DTEND;TZID=Europe/Zurich:20260519T073000
END:VEVENT
BEGIN:VEVENT
UID:69e8920af0e6b
DTSTAMP:20260422T091658Z
SUMMARY:Kunststoffsammlung (inkl. Liebrüti)
DESCRIPTION: Kunststoff in Gebührensäcken\n35 Liter-Säcke: Rolle à 10 
 Stück: CHF 14.00\n60 Liter-Säcke: Rolle à 10 Stück: CHF 28.00\nFrüh
 estens am Vorabend\, spätestens bis\n07.00 Uhr des Abfuhrtages bereitste
 llen.\nWird 14täglich gesammelt. Verkaufsstellen\ngemäss Angaben auf u
 nserer Website.
URL:https://m.abfall-gaf.ch/index.php?apid=1057019426
DTSTART;TZID=Europe/Zurich:20260602T070000
DTEND;TZID=Europe/Zurich:20260602T073000
END:VEVENT
BEGIN:VEVENT
UID:69e8920af0e75
DTSTAMP:20260422T091658Z
SUMMARY:Kunststoffsammlung (inkl. Liebrüti)
DESCRIPTION: Kunststoff in Gebührensäcken\n35 Liter-Säcke: Rolle à 10 
 Stück: CHF 14.00\n60 Liter-Säcke: Rolle à 10 Stück: CHF 28.00\nFrüh
 estens am Vorabend\, spätestens bis\n07.00 Uhr des Abfuhrtages bereitste
 llen.\nWird 14täglich gesammelt. Verkaufsstellen\ngemäss Angaben auf u
 nserer Website.
URL:https://m.abfall-gaf.ch/index.php?apid=1057019426
DTSTART;TZID=Europe/Zurich:20260616T070000
DTEND;TZID=Europe/Zurich:20260616T073000
END:VEVENT
BEGIN:VEVENT
UID:69e8920af0e80
DTSTAMP:20260422T091658Z
SUMMARY:Kunststoffsammlung (inkl. Liebrüti)
DESCRIPTION: Kunststoff in Gebührensäcken\n35 Liter-Säcke: Rolle à 10 
 Stück: CHF 14.00\n60 Liter-Säcke: Rolle à 10 Stück: CHF 28.00\nFrüh
 estens am Vorabend\, spätestens bis\n07.00 Uhr des Abfuhrtages bereitste
 llen.\nWird 14täglich gesammelt. Verkaufsstellen\ngemäss Angaben auf u
 nserer Website.
URL:https://m.abfall-gaf.ch/index.php?apid=1057019426
DTSTART;TZID=Europe/Zurich:20260630T070000
DTEND;TZID=Europe/Zurich:20260630T073000
END:VEVENT
BEGIN:VEVENT
UID:69e8920af0e8a
DTSTAMP:20260422T091658Z
SUMMARY:Kunststoffsammlung (inkl. Liebrüti)
DESCRIPTION: Kunststoff in Gebührensäcken\n35 Liter-Säcke: Rolle à 10 
 Stück: CHF 14.00\n60 Liter-Säcke: Rolle à 10 Stück: CHF 28.00\nFrüh
 estens am Vorabend\, spätestens bis\n07.00 Uhr des Abfuhrtages bereitste
 llen.\nWird 14täglich gesammelt. Verkaufsstellen\ngemäss Angaben auf u
 nserer Website.
URL:https://m.abfall-gaf.ch/index.php?apid=1057019426
DTSTART;TZID=Europe/Zurich:20260714T070000
DTEND;TZID=Europe/Zurich:20260714T073000
END:VEVENT
BEGIN:VEVENT
UID:69e8920af0e94
DTSTAMP:20260422T091658Z
SUMMARY:Kunststoffsammlung (inkl. Liebrüti)
DESCRIPTION: Kunststoff in Gebührensäcken\n35 Liter-Säcke: Rolle à 10 
 Stück: CHF 14.00\n60 Liter-Säcke: Rolle à 10 Stück: CHF 28.00\nFrüh
 estens am Vorabend\, spätestens bis\n07.00 Uhr des Abfuhrtages bereitste
 llen.\nWird 14täglich gesammelt. Verkaufsstellen\ngemäss Angaben auf u
 nserer Website.
URL:https://m.abfall-gaf.ch/index.php?apid=1057019426
DTSTART;TZID=Europe/Zurich:20260728T070000
DTEND;TZID=Europe/Zurich:20260728T073000
END:VEVENT
BEGIN:VEVENT
UID:69e8920af0e9e
DTSTAMP:20260422T091658Z
SUMMARY:Kunststoffsammlung (inkl. Liebrüti)
DESCRIPTION: Kunststoff in Gebührensäcken\n35 Liter-Säcke: Rolle à 10 
 Stück: CHF 14.00\n60 Liter-Säcke: Rolle à 10 Stück: CHF 28.00\nFrüh
 estens am Vorabend\, spätestens bis\n07.00 Uhr des Abfuhrtages bereitste
 llen.\nWird 14täglich gesammelt. Verkaufsstellen\ngemäss Angaben auf u
 nserer Website.
URL:https://m.abfall-gaf.ch/index.php?apid=1057019426
DTSTART;TZID=Europe/Zurich:20260811T070000
DTEND;TZID=Europe/Zurich:20260811T073000
END:VEVENT
BEGIN:VEVENT
UID:69e8920af0ea8
DTSTAMP:20260422T091658Z
SUMMARY:Kunststoffsammlung (inkl. Liebrüti)
DESCRIPTION: Kunststoff in Gebührensäcken\n35 Liter-Säcke: Rolle à 10 
 Stück: CHF 14.00\n60 Liter-Säcke: Rolle à 10 Stück: CHF 28.00\nFrüh
 estens am Vorabend\, spätestens bis\n07.00 Uhr des Abfuhrtages bereitste
 llen.\nWird 14täglich gesammelt. Verkaufsstellen\ngemäss Angaben auf u
 nserer Website.
URL:https://m.abfall-gaf.ch/index.php?apid=1057019426
DTSTART;TZID=Europe/Zurich:20260825T070000
DTEND;TZID=Europe/Zurich:20260825T073000
END:VEVENT
BEGIN:VEVENT
UID:69e8920af0eb1
DTSTAMP:20260422T091658Z
SUMMARY:Kunststoffsammlung (inkl. Liebrüti)
DESCRIPTION: Kunststoff in Gebührensäcken\n35 Liter-Säcke: Rolle à 10 
 Stück: CHF 14.00\n60 Liter-Säcke: Rolle à 10 Stück: CHF 28.00\nFrüh
 estens am Vorabend\, spätestens bis\n07.00 Uhr des Abfuhrtages bereitste
 llen.\nWird 14täglich gesammelt. Verkaufsstellen\ngemäss Angaben auf u
 nserer Website.
URL:https://m.abfall-gaf.ch/index.php?apid=1057019426
DTSTART;TZID=Europe/Zurich:20260908T070000
DTEND;TZID=Europe/Zurich:20260908T073000
END:VEVENT
BEGIN:VEVENT
UID:69e8920af0ebc
DTSTAMP:20260422T091658Z
SUMMARY:Kunststoffsammlung (inkl. Liebrüti)
DESCRIPTION: Kunststoff in Gebührensäcken\n35 Liter-Säcke: Rolle à 10 
 Stück: CHF 14.00\n60 Liter-Säcke: Rolle à 10 Stück: CHF 28.00\nFrüh
 estens am Vorabend\, spätestens bis\n07.00 Uhr des Abfuhrtages bereitste
 llen.\nWird 14täglich gesammelt. Verkaufsstellen\ngemäss Angaben auf u
 nserer Website.
URL:https://m.abfall-gaf.ch/index.php?apid=1057019426
DTSTART;TZID=Europe/Zurich:20260922T070000
DTEND;TZID=Europe/Zurich:20260922T073000
END:VEVENT
BEGIN:VEVENT
UID:69e8920af0ec5
DTSTAMP:20260422T091658Z
SUMMARY:Kunststoffsammlung (inkl. Liebrüti)
DESCRIPTION: Kunststoff in Gebührensäcken\n35 Liter-Säcke: Rolle à 10 
 Stück: CHF 14.00\n60 Liter-Säcke: Rolle à 10 Stück: CHF 28.00\nFrüh
 estens am Vorabend\, spätestens bis\n07.00 Uhr des Abfuhrtages bereitste
 llen.\nWird 14täglich gesammelt. Verkaufsstellen\ngemäss Angaben auf u
 nserer Website.
URL:https://m.abfall-gaf.ch/index.php?apid=1057019426
DTSTART;TZID=Europe/Zurich:20261006T070000
DTEND;TZID=Europe/Zurich:20261006T073000
END:VEVENT
BEGIN:VEVENT
UID:69e8920af0ecf
DTSTAMP:20260422T091658Z
SUMMARY:Kunststoffsammlung (inkl. Liebrüti)
DESCRIPTION: Kunststoff in Gebührensäcken\n35 Liter-Säcke: Rolle à 10 
 Stück: CHF 14.00\n60 Liter-Säcke: Rolle à 10 Stück: CHF 28.00\nFrüh
 estens am Vorabend\, spätestens bis\n07.00 Uhr des Abfuhrtages bereitste
 llen.\nWird 14täglich gesammelt. Verkaufsstellen\ngemäss Angaben auf u
 nserer Website.
URL:https://m.abfall-gaf.ch/index.php?apid=1057019426
DTSTART;TZID=Europe/Zurich:20261020T070000
DTEND;TZID=Europe/Zurich:20261020T073000
END:VEVENT
BEGIN:VEVENT
UID:69e8920af0ed8
DTSTAMP:20260422T091658Z
SUMMARY:Kunststoffsammlung (inkl. Liebrüti)
DESCRIPTION: Kunststoff in Gebührensäcken\n35 Liter-Säcke: Rolle à 10 
 Stück: CHF 14.00\n60 Liter-Säcke: Rolle à 10 Stück: CHF 28.00\nFrüh
 estens am Vorabend\, spätestens bis\n07.00 Uhr des Abfuhrtages bereitste
 llen.\nWird 14täglich gesammelt. Verkaufsstellen\ngemäss Angaben auf u
 nserer Website.
URL:https://m.abfall-gaf.ch/index.php?apid=1057019426
DTSTART;TZID=Europe/Zurich:20261103T070000
DTEND;TZID=Europe/Zurich:20261103T073000
END:VEVENT
BEGIN:VEVENT
UID:69e8920af0ee2
DTSTAMP:20260422T091658Z
SUMMARY:Kunststoffsammlung (inkl. Liebrüti)
DESCRIPTION: Kunststoff in Gebührensäcken\n35 Liter-Säcke: Rolle à 10 
 Stück: CHF 14.00\n60 Liter-Säcke: Rolle à 10 Stück: CHF 28.00\nFrüh
 estens am Vorabend\, spätestens bis\n07.00 Uhr des Abfuhrtages bereitste
 llen.\nWird 14täglich gesammelt. Verkaufsstellen\ngemäss Angaben auf u
 nserer Website.
URL:https://m.abfall-gaf.ch/index.php?apid=1057019426
DTSTART;TZID=Europe/Zurich:20261117T070000
DTEND;TZID=Europe/Zurich:20261117T073000
END:VEVENT
BEGIN:VEVENT
UID:69e8920af0eec
DTSTAMP:20260422T091658Z
SUMMARY:Kunststoffsammlung (inkl. Liebrüti)
DESCRIPTION: Kunststoff in Gebührensäcken\n35 Liter-Säcke: Rolle à 10 
 Stück: CHF 14.00\n60 Liter-Säcke: Rolle à 10 Stück: CHF 28.00\nFrüh
 estens am Vorabend\, spätestens bis\n07.00 Uhr des Abfuhrtages bereitste
 llen.\nWird 14täglich gesammelt. Verkaufsstellen\ngemäss Angaben auf u
 nserer Website.
URL:https://m.abfall-gaf.ch/index.php?apid=1057019426
DTSTART;TZID=Europe/Zurich:20261201T070000
DTEND;TZID=Europe/Zurich:20261201T073000
END:VEVENT
BEGIN:VEVENT
UID:69e8920af0ef5
DTSTAMP:20260422T091658Z
SUMMARY:Kunststoffsammlung (inkl. Liebrüti)
DESCRIPTION: Kunststoff in Gebührensäcken\n35 Liter-Säcke: Rolle à 10 
 Stück: CHF 14.00\n60 Liter-Säcke: Rolle à 10 Stück: CHF 28.00\nFrüh
 estens am Vorabend\, spätestens bis\n07.00 Uhr des Abfuhrtages bereitste
 llen.\nWird 14täglich gesammelt. Verkaufsstellen\ngemäss Angaben auf u
 nserer Website.
URL:https://m.abfall-gaf.ch/index.php?apid=1057019426
DTSTART;TZID=Europe/Zurich:20261215T070000
DTEND;TZID=Europe/Zurich:20261215T073000
END:VEVENT
BEGIN:VEVENT
UID:69e8920af0eff
DTSTAMP:20260422T091658Z
SUMMARY:Kunststoffsammlung (inkl. Liebrüti)
DESCRIPTION: Kunststoff in Gebührensäcken\n35 Liter-Säcke: Rolle à 10 
 Stück: CHF 14.00\n60 Liter-Säcke: Rolle à 10 Stück: CHF 28.00\nFrüh
 estens am Vorabend\, spätestens bis\n07.00 Uhr des Abfuhrtages bereitste
 llen.\nWird 14täglich gesammelt. Verkaufsstellen\ngemäss Angaben auf u
 nserer Website.
URL:https://m.abfall-gaf.ch/index.php?apid=1057019426
DTSTART;TZID=Europe/Zurich:20261229T070000
DTEND;TZID=Europe/Zurich:20261229T073000
END:VEVENT
END:VCALENDAR