BEGIN:VCALENDAR
VERSION:2.0
PRODID:spatie/icalendar-generator
NAME:Abfallkalender Rheinfelden
X-WR-CALNAME:Abfallkalender Rheinfelden
BEGIN:VTIMEZONE
TZID:Europe/Zurich
BEGIN:STANDARD
DTSTART:20251026T030000
TZOFFSETFROM:+0200
TZOFFSETTO:+0100
END:STANDARD
BEGIN:DAYLIGHT
DTSTART:20260329T010000
TZOFFSETFROM:+0100
TZOFFSETTO:+0200
END:DAYLIGHT
BEGIN:STANDARD
DTSTART:20261025T030000
TZOFFSETFROM:+0200
TZOFFSETTO:+0100
END:STANDARD
BEGIN:DAYLIGHT
DTSTART:20270328T010000
TZOFFSETFROM:+0100
TZOFFSETTO:+0200
END:DAYLIGHT
END:VTIMEZONE
BEGIN:VTIMEZONE
TZID:UTC
BEGIN:STANDARD
DTSTART:20250728T090648
TZOFFSETFROM:+0000
TZOFFSETTO:+0000
END:STANDARD
END:VTIMEZONE
BEGIN:VEVENT
UID:69eb32a7f4239
DTSTAMP:20260424T090648Z
SUMMARY:Papiersammlung
DESCRIPTION: Papiersammlung (kein Karton)\nGebündelt\, nicht in Papiertasc
 hen bereit stellen\, gut sichtbar bis spätestens 07.00 Uhr bereit stellen
 . Gesammelt werden: Zeitungen\, Zeitschriften\, Prospekte\, Büropapier\, 
 Bücher ohne Vorder- und Rückseite. Nicht in die Papiersammlung gehöre
 n: Papiertaschen (gehören in die Kartonsammlung)\, Karton und Ordner\, be
 schichtetes Papier\, wie z.B. Butterpapier\, Tetrapackungen\, Fototaschen\
 , Blumenpapier\, Biskuitverpackungen\, Servietten\, Zigarettenpackungen.
URL:https://m.abfall-gaf.ch/index.php?apid=1054649224
DTSTART;TZID=Europe/Zurich:20260509T070000
DTEND;TZID=Europe/Zurich:20260509T073000
END:VEVENT
BEGIN:VEVENT
UID:69eb32a80004d
DTSTAMP:20260424T090648Z
SUMMARY:Papiersammlung
DESCRIPTION: Papiersammlung (kein Karton)\nGebündelt\, nicht in Papiertasc
 hen bereit stellen\, gut sichtbar bis spätestens 07.00 Uhr bereit stellen
 . Gesammelt werden: Zeitungen\, Zeitschriften\, Prospekte\, Büropapier\, 
 Bücher ohne Vorder- und Rückseite. Nicht in die Papiersammlung gehöre
 n: Papiertaschen (gehören in die Kartonsammlung)\, Karton und Ordner\, be
 schichtetes Papier\, wie z.B. Butterpapier\, Tetrapackungen\, Fototaschen\
 , Blumenpapier\, Biskuitverpackungen\, Servietten\, Zigarettenpackungen.
URL:https://m.abfall-gaf.ch/index.php?apid=1054649224
DTSTART;TZID=Europe/Zurich:20260815T070000
DTEND;TZID=Europe/Zurich:20260815T073000
END:VEVENT
BEGIN:VEVENT
UID:69eb32a80005c
DTSTAMP:20260424T090648Z
SUMMARY:Papiersammlung
DESCRIPTION: Papiersammlung (kein Karton)\nGebündelt\, nicht in Papiertasc
 hen bereit stellen\, gut sichtbar bis spätestens 07.00 Uhr bereit stellen
 . Gesammelt werden: Zeitungen\, Zeitschriften\, Prospekte\, Büropapier\, 
 Bücher ohne Vorder- und Rückseite. Nicht in die Papiersammlung gehöre
 n: Papiertaschen (gehören in die Kartonsammlung)\, Karton und Ordner\, be
 schichtetes Papier\, wie z.B. Butterpapier\, Tetrapackungen\, Fototaschen\
 , Blumenpapier\, Biskuitverpackungen\, Servietten\, Zigarettenpackungen.
URL:https://m.abfall-gaf.ch/index.php?apid=1054649224
DTSTART;TZID=Europe/Zurich:20261017T070000
DTEND;TZID=Europe/Zurich:20261017T073000
END:VEVENT
BEGIN:VEVENT
UID:69eb32a800068
DTSTAMP:20260424T090648Z
SUMMARY:Papiersammlung
DESCRIPTION: Papiersammlung (kein Karton)\nGebündelt\, nicht in Papiertasc
 hen bereit stellen\, gut sichtbar bis spätestens 07.00 Uhr bereit stellen
 . Gesammelt werden: Zeitungen\, Zeitschriften\, Prospekte\, Büropapier\, 
 Bücher ohne Vorder- und Rückseite. Nicht in die Papiersammlung gehöre
 n: Papiertaschen (gehören in die Kartonsammlung)\, Karton und Ordner\, be
 schichtetes Papier\, wie z.B. Butterpapier\, Tetrapackungen\, Fototaschen\
 , Blumenpapier\, Biskuitverpackungen\, Servietten\, Zigarettenpackungen.
URL:https://m.abfall-gaf.ch/index.php?apid=1054649224
DTSTART;TZID=Europe/Zurich:20261128T070000
DTEND;TZID=Europe/Zurich:20261128T073000
END:VEVENT
END:VCALENDAR